BEGIN:VCALENDAR
PRODID:NingEventWidget-v1
VERSION:2.0
METHOD:PUBLISH
BEGIN:VTIMEZONE
TZID:America/Chicago
X-LIC-LOCATION:America/Chicago
BEGIN:DAYLIGHT
TZOFFSETFROM:-0600
TZOFFSETTO:-0500
TZNAME:CDT
DTSTART:19700308T020000
RRULE:FREQ=YEARLY;BYMONTH=3;BYDAY=2SU
END:DAYLIGHT
BEGIN:STANDARD
TZOFFSETFROM:-0500
TZOFFSETTO:-0600
TZNAME:CST
DTSTART:19701101T020000
RRULE:FREQ=YEARLY;BYMONTH=11;BYDAY=1SU
END:STANDARD
END:VTIMEZONE
BEGIN:VEVENT
UID:3181080:Event:1541620
DTSTAMP:20260422T200648Z
SUMMARY:10th Annual Gathering of the Usual Suspect Network
DESCRIPTION:Great knife show with many known bladesmiths and knife mak
 ers present.\n\nFor more information visit https://iknifecollector.com
 /events/10th-annual-gathering-of-the-usual-suspect-network
DTSTART;TZID=America/Chicago:20180830T000000
DTEND;TZID=America/Chicago:20180901T235900
CATEGORIES:knife, show
LOCATION:Planet Hollywood Resort and Casino
WEBSITE:http://www.usngathering.com
URL:http://www.usngathering.com
CONTACT:305.255.9176 X215
ORGANIZER:USN
ATTACH;FMTTYPE="image/jpeg":http://storage.ning.com/topology/rest/1.0/
 file/get/2711293290?profile=original
ATTENDEE;ROLE=REQ-PARTICIPANT;PARTSTAT=ACCEPTED;RSVP=TRUE;CN="Sergi C.
  Heideman":https://iknifecollector.com/profile/SergiCHeideman
END:VEVENT
END:VCALENDAR
