BEGIN:VCALENDAR
PRODID:NingEventWidget-v1
VERSION:2.0
METHOD:PUBLISH
BEGIN:VTIMEZONE
TZID:America/Chicago
X-LIC-LOCATION:America/Chicago
BEGIN:DAYLIGHT
TZOFFSETFROM:-0600
TZOFFSETTO:-0500
TZNAME:CDT
DTSTART:19700308T020000
RRULE:FREQ=YEARLY;BYMONTH=3;BYDAY=2SU
END:DAYLIGHT
BEGIN:STANDARD
TZOFFSETFROM:-0500
TZOFFSETTO:-0600
TZNAME:CST
DTSTART:19701101T020000
RRULE:FREQ=YEARLY;BYMONTH=11;BYDAY=1SU
END:STANDARD
END:VTIMEZONE
BEGIN:VEVENT
UID:3181080:Event:557106
DTSTAMP:20260421T222731Z
SUMMARY:2012 Badger Knife Club Knife Show
DESCRIPTION:Most of all, the Badger Knife Club is an organization of f
 riends who share a mutual interest in all forms of knives - new, old, 
 custom, miniature and factory.\n\nFor more information visit https://i
 knifecollector.com/events/2012-badger-knife-club-knife-show
DTSTART;TZID=America/Chicago:20120323T000000
DTEND;TZID=America/Chicago:20120325T235900
CATEGORIES:knife, show
LOCATION:Janesville Conference Center
WEBSITE:http://www.badgerknifeclub.org/show/index.shtml
URL:http://www.badgerknifeclub.org/show/index.shtml
CONTACT:
ORGANIZER:
ATTACH;FMTTYPE="image/jpeg":
ATTENDEE;ROLE=REQ-PARTICIPANT;PARTSTAT=ACCEPTED;RSVP=TRUE;CN="Jan Cart
 er":https://iknifecollector.com/profile/JanCarter
END:VEVENT
END:VCALENDAR
