BEGIN:VCALENDAR
PRODID:NingEventWidget-v1
VERSION:2.0
METHOD:PUBLISH
BEGIN:VTIMEZONE
TZID:America/Chicago
X-LIC-LOCATION:America/Chicago
BEGIN:DAYLIGHT
TZOFFSETFROM:-0600
TZOFFSETTO:-0500
TZNAME:CDT
DTSTART:19700308T020000
RRULE:FREQ=YEARLY;BYMONTH=3;BYDAY=2SU
END:DAYLIGHT
BEGIN:STANDARD
TZOFFSETFROM:-0500
TZOFFSETTO:-0600
TZNAME:CST
DTSTART:19701101T020000
RRULE:FREQ=YEARLY;BYMONTH=11;BYDAY=1SU
END:STANDARD
END:VTIMEZONE
BEGIN:VEVENT
UID:3181080:Event:557195
DTSTAMP:20260422T005521Z
SUMMARY:2012 Eastern Pennsylvania Knife Collectors Association Knife S
 how
DESCRIPTION:New – Antique – Factory Knives – Razors – Custom K
 nives – Military Knives\n\nFor more information visit https://iknife
 collector.com/events/2012-eastern-pennsylvania-knife-collectors-associ
 ation-knife-show
DTSTART;TZID=America/Chicago:20120317T090000
DTEND;TZID=America/Chicago:20120317T160000
CATEGORIES:knife, collectors, association, show
LOCATION:Plainfield Township Fire Co. Social Hall
WEBSITE:http://knifeclub.org/epkca-knife-show/
URL:http://knifeclub.org/epkca-knife-show/
CONTACT:
ORGANIZER:
ATTACH;FMTTYPE="image/jpeg":
ATTENDEE;ROLE=REQ-PARTICIPANT;PARTSTAT=ACCEPTED;RSVP=TRUE;CN="Jan Cart
 er":https://iknifecollector.com/profile/JanCarter
END:VEVENT
END:VCALENDAR
