BEGIN:VCALENDAR
PRODID:NingEventWidget-v1
VERSION:2.0
METHOD:PUBLISH
BEGIN:VTIMEZONE
TZID:America/Chicago
X-LIC-LOCATION:America/Chicago
BEGIN:DAYLIGHT
TZOFFSETFROM:-0600
TZOFFSETTO:-0500
TZNAME:CDT
DTSTART:19700308T020000
RRULE:FREQ=YEARLY;BYMONTH=3;BYDAY=2SU
END:DAYLIGHT
BEGIN:STANDARD
TZOFFSETFROM:-0500
TZOFFSETTO:-0600
TZNAME:CST
DTSTART:19701101T020000
RRULE:FREQ=YEARLY;BYMONTH=11;BYDAY=1SU
END:STANDARD
END:VTIMEZONE
BEGIN:VEVENT
UID:3181080:Event:851976
DTSTAMP:20260422T180510Z
SUMMARY:2013 Case Events Tour
DESCRIPTION:Shepherd Hills Cutlery\nCase Celebrity/Tour: John Sulliva
 nDate: 2013-07-27      Time: 9 am - NoonAddress: 4562 Gretna 
 Rd, Unit4260 Branson, MO 65616Click here for directions.Knives at thi
 s event:\nCopperLock® | 61549L SSPeach Seed Jigged Olive Green Bone50
  available at this event.\n\nFor more information visit https://iknife
 collector.com/events/2013-case-events-tour-1
DTSTART;TZID=America/Chicago:20130513T090000
DTEND;TZID=America/Chicago:20130513T120000
CATEGORIES:2013, case, events, tour
LOCATION:Shepherd Hills Cutlery
WEBSITE:
URL:
CONTACT:
ORGANIZER;CN="Jan Carter":https://iknifecollector.com/profile/JanCarte
 r
ATTACH;FMTTYPE="image/jpeg":
ATTENDEE;ROLE=REQ-PARTICIPANT;PARTSTAT=ACCEPTED;RSVP=TRUE;CN="Jan Cart
 er":https://iknifecollector.com/profile/JanCarter
END:VEVENT
END:VCALENDAR
