BEGIN:VCALENDAR
PRODID:NingEventWidget-v1
VERSION:2.0
METHOD:PUBLISH
BEGIN:VTIMEZONE
TZID:America/Chicago
X-LIC-LOCATION:America/Chicago
BEGIN:DAYLIGHT
TZOFFSETFROM:-0600
TZOFFSETTO:-0500
TZNAME:CDT
DTSTART:19700308T020000
RRULE:FREQ=YEARLY;BYMONTH=3;BYDAY=2SU
END:DAYLIGHT
BEGIN:STANDARD
TZOFFSETFROM:-0500
TZOFFSETTO:-0600
TZNAME:CST
DTSTART:19701101T020000
RRULE:FREQ=YEARLY;BYMONTH=11;BYDAY=1SU
END:STANDARD
END:VTIMEZONE
BEGIN:VEVENT
UID:3181080:Event:757409
DTSTAMP:20260423T163529Z
SUMMARY:2013 SHOT Show
DESCRIPTION:The Shooting, Hunting, Outdoor Trade Show (SHOT Show) and 
 Conference is the largest and most comprehensive trade show for all pr
 ofessionals involved with the shooting sports, hunting and law enforce
 ment industries. It is the world's premier exposition of combined fir
 earms, ammunition, law enforcement, cutlery, outdoor apparel, optics a
 nd related products and services. The SHOT Show attracts buyers from a
 ll 50 states and more than 100 countries. The SHOT Show is owned and s
 ponsored by the National Shooting Sports Foundation and is produced 
 and managed by Reed Exhibitions.\n\nFor more information visit https:
 //iknifecollector.com/events/2013-shot-show
DTSTART;TZID=America/Chicago:20130115T000000
DTEND;TZID=America/Chicago:20130118T235900
CATEGORIES:the, shooting, hunting, outdoor, trade, show
LOCATION:Sands Expo & Convention Center
WEBSITE:http://www.shotshow.org/?CFID=8078350&CFTOKEN=18462952&jsessio
 nid=8430b4f2bce244ad501f47178531618194e7
URL:http://www.shotshow.org/?CFID=8078350&CFTOKEN=18462952&jsessionid=
 8430b4f2bce244ad501f47178531618194e7
CONTACT:
ORGANIZER;CN="Jan Carter":https://iknifecollector.com/profile/JanCarte
 r
ATTACH;FMTTYPE="image/jpeg":
ATTENDEE;ROLE=REQ-PARTICIPANT;PARTSTAT=ACCEPTED;RSVP=TRUE;CN="Jan Cart
 er":https://iknifecollector.com/profile/JanCarter
END:VEVENT
END:VCALENDAR
