BEGIN:VCALENDAR
PRODID:NingEventWidget-v1
VERSION:2.0
METHOD:PUBLISH
BEGIN:VTIMEZONE
TZID:America/Chicago
X-LIC-LOCATION:America/Chicago
BEGIN:DAYLIGHT
TZOFFSETFROM:-0600
TZOFFSETTO:-0500
TZNAME:CDT
DTSTART:19700308T020000
RRULE:FREQ=YEARLY;BYMONTH=3;BYDAY=2SU
END:DAYLIGHT
BEGIN:STANDARD
TZOFFSETFROM:-0500
TZOFFSETTO:-0600
TZNAME:CST
DTSTART:19701101T020000
RRULE:FREQ=YEARLY;BYMONTH=11;BYDAY=1SU
END:STANDARD
END:VTIMEZONE
BEGIN:VEVENT
UID:3181080:Event:1040355
DTSTAMP:20260424T122821Z
SUMMARY:2014 KNIFE COLLECTORS SHOW
DESCRIPTION:BUY     SELL    TRADE    INVEST\nCustom Knife ma
 kers, Scrimshaw, Knife making supplies\n Factory Knife Collectors, Ol
 d Knives and New\n150 TABLES           SATURDAY AUCTION AT 5
  p.m.\n\nFor more information visit https://iknifecollector.com/events
 /2014-knife-collectors-show
DTSTART;TZID=America/Chicago:20140201T000000
DTEND;TZID=America/Chicago:20140202T235900
CATEGORIES:knife, show
LOCATION:Suburban Collection Showplace
WEBSITE:http://www.wolverineknifecollectorsclub.com/
URL:http://www.wolverineknifecollectorsclub.com/
CONTACT:
ORGANIZER;CN="Jan Carter":https://iknifecollector.com/profile/JanCarte
 r
ATTACH;FMTTYPE="image/jpeg":
ATTENDEE;ROLE=REQ-PARTICIPANT;PARTSTAT=ACCEPTED;RSVP=TRUE;CN="Jan Cart
 er":https://iknifecollector.com/profile/JanCarter
ATTENDEE;ROLE=REQ-PARTICIPANT;PARTSTAT=TENTATIVE;RSVP=TRUE;CN="Jeremy 
 B. Buchanan":https://iknifecollector.com/profile/JeremyBBuchanan
END:VEVENT
END:VCALENDAR
