BEGIN:VCALENDAR
PRODID:NingEventWidget-v1
VERSION:2.0
METHOD:PUBLISH
BEGIN:VTIMEZONE
TZID:America/Chicago
X-LIC-LOCATION:America/Chicago
BEGIN:DAYLIGHT
TZOFFSETFROM:-0600
TZOFFSETTO:-0500
TZNAME:CDT
DTSTART:19700308T020000
RRULE:FREQ=YEARLY;BYMONTH=3;BYDAY=2SU
END:DAYLIGHT
BEGIN:STANDARD
TZOFFSETFROM:-0500
TZOFFSETTO:-0600
TZNAME:CST
DTSTART:19701101T020000
RRULE:FREQ=YEARLY;BYMONTH=11;BYDAY=1SU
END:STANDARD
END:VTIMEZONE
BEGIN:VEVENT
UID:3181080:Event:1134080
DTSTAMP:20260420T200717Z
SUMMARY:2014 Knifemakers' Guild Show
DESCRIPTION:Show Schedule\n\nThursday, July 31 :: Honorary Members Re
 ception 6:00-7:30 p.m. (Probationary Member's Knife Inspections 12:00
 -5:00p.m)Friday, August 1 :: Noon to 6:00p.m.(8:00a.m. Annual Busines
 s Meeting - 10:00a.m. Knife Award Judging)Saturday, August 2 :: 10:00
 a.m. to 5:00p.m.Sunday, August 3 :: 10:00a.m. to 3:00p.m.\n\n\n\n\nFo
 r more information visit https://iknifecollector.com/events/2014-knife
 makers-guild-show
DTSTART;TZID=America/Chicago:20140731T000000
DTEND;TZID=America/Chicago:20140803T235900
CATEGORIES:knife, show
LOCATION:The Seelbach Hilton Hotel
WEBSITE:http://www.knifemakersguild.com/show.shtml
URL:http://www.knifemakersguild.com/show.shtml
CONTACT:
ORGANIZER;CN="Jan Carter":https://iknifecollector.com/profile/JanCarte
 r
ATTACH;FMTTYPE="image/jpeg":
ATTENDEE;ROLE=REQ-PARTICIPANT;PARTSTAT=ACCEPTED;RSVP=TRUE;CN="Adam Arc
 her":https://iknifecollector.com/profile/AdamArcher
ATTENDEE;ROLE=REQ-PARTICIPANT;PARTSTAT=ACCEPTED;RSVP=TRUE;CN="Mark Zal
 esky":https://iknifecollector.com/profile/MarkZalesky
ATTENDEE;ROLE=REQ-PARTICIPANT;PARTSTAT=ACCEPTED;RSVP=TRUE;CN="Jan Cart
 er":https://iknifecollector.com/profile/JanCarter
END:VEVENT
END:VCALENDAR
