BEGIN:VCALENDAR
PRODID:NingEventWidget-v1
VERSION:2.0
METHOD:PUBLISH
BEGIN:VTIMEZONE
TZID:America/Chicago
X-LIC-LOCATION:America/Chicago
BEGIN:DAYLIGHT
TZOFFSETFROM:-0600
TZOFFSETTO:-0500
TZNAME:CDT
DTSTART:19700308T020000
RRULE:FREQ=YEARLY;BYMONTH=3;BYDAY=2SU
END:DAYLIGHT
BEGIN:STANDARD
TZOFFSETFROM:-0500
TZOFFSETTO:-0600
TZNAME:CST
DTSTART:19701101T020000
RRULE:FREQ=YEARLY;BYMONTH=11;BYDAY=1SU
END:STANDARD
END:VTIMEZONE
BEGIN:VEVENT
UID:3181080:Event:1040454
DTSTAMP:20260424T203122Z
SUMMARY:2014 SHOT Show
DESCRIPTION:The Shooting, Hunting, and Outdoor Trade ShowSM (SHOT Sho
 w®) and Conference\nIt is the largest and most comprehensive trade sh
 ow for all professionals involved with the shooting sports, hunting an
 d law enforcement industries.\nIt is the world’s premier exposition 
 of combined firearms, ammunition, law enforcement, cutlery, outdoor ap
 parel, optics, and related products and services. The SHOT Show attrac
 ts buyers from all 50 states and more than 100 countries. It is owned 
 by the National Shooting Sports Foundation.\n\nFor more information vi
 sit https://iknifecollector.com/events/2014-shot-show
DTSTART;TZID=America/Chicago:20140114T000000
DTEND;TZID=America/Chicago:20140117T235900
CATEGORIES:knife, show
LOCATION:Sands Expo and Convention Center
WEBSITE:http://www.shotshow.org/
URL:http://www.shotshow.org/
CONTACT:
ORGANIZER;CN="Jan Carter":https://iknifecollector.com/profile/JanCarte
 r
ATTACH;FMTTYPE="image/jpeg":
ATTENDEE;ROLE=REQ-PARTICIPANT;PARTSTAT=ACCEPTED;RSVP=TRUE;CN="JOHN  L 
 BROWN SR":https://iknifecollector.com/profile/JOHNLBROWNSR
ATTENDEE;ROLE=REQ-PARTICIPANT;PARTSTAT=ACCEPTED;RSVP=TRUE;CN="Michael 
 R Siegel":https://iknifecollector.com/profile/MichaelRSiegel
ATTENDEE;ROLE=REQ-PARTICIPANT;PARTSTAT=ACCEPTED;RSVP=TRUE;CN="Jan Cart
 er":https://iknifecollector.com/profile/JanCarter
END:VEVENT
END:VCALENDAR
