BEGIN:VCALENDAR
PRODID:NingEventWidget-v1
VERSION:2.0
METHOD:PUBLISH
BEGIN:VTIMEZONE
TZID:America/Chicago
X-LIC-LOCATION:America/Chicago
BEGIN:DAYLIGHT
TZOFFSETFROM:-0600
TZOFFSETTO:-0500
TZNAME:CDT
DTSTART:19700308T020000
RRULE:FREQ=YEARLY;BYMONTH=3;BYDAY=2SU
END:DAYLIGHT
BEGIN:STANDARD
TZOFFSETFROM:-0500
TZOFFSETTO:-0600
TZNAME:CST
DTSTART:19701101T020000
RRULE:FREQ=YEARLY;BYMONTH=11;BYDAY=1SU
END:STANDARD
END:VTIMEZONE
BEGIN:VEVENT
UID:3181080:Event:1426251
DTSTAMP:20260424T100832Z
SUMMARY:2016 New England Bladesmithing Symposium and Knife Show
DESCRIPTION:\n\nFor more information visit https://iknifecollector.com
 /events/2016-new-england-bladesmithing-symposium-and-knife-show
DTSTART;TZID=America/Chicago:20160715T180000
DTEND;TZID=America/Chicago:20160717T190000
CATEGORIES:bladesmithing, symposium, and, knife, show
LOCATION:New England School of Metalwork
WEBSITE:http://www.newenglandschoolofmetalwork.com/bladesmithing/index
 .php?page=abs-new-england-hammer-in
URL:http://www.newenglandschoolofmetalwork.com/bladesmithing/index.php
 ?page=abs-new-england-hammer-in
CONTACT:
ORGANIZER;CN="Jan Carter":https://iknifecollector.com/profile/JanCarte
 r
ATTACH;FMTTYPE="image/jpeg":http://storage.ning.com/topology/rest/1.0/
 file/get/2831493636?profile=original
END:VEVENT
END:VCALENDAR
