BEGIN:VCALENDAR
PRODID:NingEventWidget-v1
VERSION:2.0
METHOD:PUBLISH
BEGIN:VTIMEZONE
TZID:America/Chicago
X-LIC-LOCATION:America/Chicago
BEGIN:DAYLIGHT
TZOFFSETFROM:-0600
TZOFFSETTO:-0500
TZNAME:CDT
DTSTART:19700308T020000
RRULE:FREQ=YEARLY;BYMONTH=3;BYDAY=2SU
END:DAYLIGHT
BEGIN:STANDARD
TZOFFSETFROM:-0500
TZOFFSETTO:-0600
TZNAME:CST
DTSTART:19701101T020000
RRULE:FREQ=YEARLY;BYMONTH=11;BYDAY=1SU
END:STANDARD
END:VTIMEZONE
BEGIN:VEVENT
UID:3181080:Event:1453071
DTSTAMP:20260423T205324Z
SUMMARY:2017 Badger Knife Club Knife Show
DESCRIPTION:Show Hours\n\nFriday: Noon to 7:00 p.m.\nSaturday: 8:00 a.
 m. to 5:00 p.m.\nSunday: 9:00 a.m. to 2:00 p.m.\n\nAdmission Prices\n\
 nDoor: $5.00 at door (Children under 13 free when accompanied by an ad
 ult.)\nThree-Day Pass $8.00\nEarly Bird $20.00\n\n\nFor more informati
 on visit https://iknifecollector.com/events/2017-badger-knife-club-kni
 fe-show
DTSTART;TZID=America/Chicago:20170324T000000
DTEND;TZID=America/Chicago:20170326T235900
CATEGORIES:knife, show
LOCATION:Janesville Conference Center at Holiday Inn Express
WEBSITE:http://www.badgerknifeclub.com/show/index.shtml
URL:http://www.badgerknifeclub.com/show/index.shtml
CONTACT:
ORGANIZER;CN="Jan Carter":https://iknifecollector.com/profile/JanCarte
 r
ATTACH;FMTTYPE="image/jpeg":
END:VEVENT
END:VCALENDAR
