BEGIN:VCALENDAR
PRODID:NingEventWidget-v1
VERSION:2.0
METHOD:PUBLISH
BEGIN:VTIMEZONE
TZID:America/Chicago
X-LIC-LOCATION:America/Chicago
BEGIN:DAYLIGHT
TZOFFSETFROM:-0600
TZOFFSETTO:-0500
TZNAME:CDT
DTSTART:19700308T020000
RRULE:FREQ=YEARLY;BYMONTH=3;BYDAY=2SU
END:DAYLIGHT
BEGIN:STANDARD
TZOFFSETFROM:-0500
TZOFFSETTO:-0600
TZNAME:CST
DTSTART:19701101T020000
RRULE:FREQ=YEARLY;BYMONTH=11;BYDAY=1SU
END:STANDARD
END:VTIMEZONE
BEGIN:VEVENT
UID:3181080:Event:1530220
DTSTAMP:20260422T181213Z
SUMMARY:2018 Central KY Knife Club Show (35th Annual August Show)
DESCRIPTION:Â  Â  Â  Â  Â  Â  August 17, 9AM-6PM,Â  August 18, 8:30 AM
 -4PM\nClarion Hotel Convention Center, Lexington, KY, 859-233-0512\nJu
 st off I 75 at Exit 115 , North, Exit 115, end of ramp Left , left at 
 first Â  Â  Â Â  Light . South exit 115, end of ramp left, at light tu
 rn right into entrance.\nÂ Info call, Jim Thompson, 859-623-1419 or Ka
 thy Litton 502-863-1840\nÂ  Â  Â  Â  Â  Â  Â  Â  Open to public, Admis
 sion $5,Â  BUYÂ  -Â  SELLÂ  -Â  TRADE\nÂ  Â  Â  Â  Â  Â  Â  Â  Â  Â  Â
   Â  Dealers from Central & Southern StatesÂ \n\nFor more information 
 visit https://iknifecollector.com/events/2018-central-ky-knife-club-sh
 ow-35th-annual-august-show
DTSTART;TZID=America/Chicago:20180817T000000
DTEND;TZID=America/Chicago:20180818T235900
CATEGORIES:club, fundraiser
LOCATION:Clarion Hotel Convention Center
WEBSITE:
URL:
CONTACT:
ORGANIZER:Jim Thompson, Kathy &amp; Joe Litton
ATTACH;FMTTYPE="image/jpeg":
ATTENDEE;ROLE=REQ-PARTICIPANT;PARTSTAT=ACCEPTED;RSVP=TRUE;CN="John How
 ard":https://iknifecollector.com/profile/JohnHoward547
ATTENDEE;ROLE=REQ-PARTICIPANT;PARTSTAT=ACCEPTED;RSVP=TRUE;CN="Adam Arc
 her":https://iknifecollector.com/profile/AdamArcher
ATTENDEE;ROLE=REQ-PARTICIPANT;PARTSTAT=ACCEPTED;RSVP=TRUE;CN="Roger Cu
 nningham":https://iknifecollector.com/profile/RogerCunningham
ATTENDEE;ROLE=REQ-PARTICIPANT;PARTSTAT=ACCEPTED;RSVP=TRUE;CN="Charlie 
 Noyes":https://iknifecollector.com/profile/CharlesANoyes
ATTENDEE;ROLE=REQ-PARTICIPANT;PARTSTAT=ACCEPTED;RSVP=TRUE;CN="Mark Zal
 esky":https://iknifecollector.com/profile/MarkZalesky
ATTENDEE;ROLE=REQ-PARTICIPANT;PARTSTAT=ACCEPTED;RSVP=TRUE;CN="Jim Thom
 pson":https://iknifecollector.com/profile/JimThompson
END:VEVENT
END:VCALENDAR
