BEGIN:VCALENDAR
PRODID:NingEventWidget-v1
VERSION:2.0
METHOD:PUBLISH
BEGIN:VTIMEZONE
TZID:America/Chicago
X-LIC-LOCATION:America/Chicago
BEGIN:DAYLIGHT
TZOFFSETFROM:-0600
TZOFFSETTO:-0500
TZNAME:CDT
DTSTART:19700308T020000
RRULE:FREQ=YEARLY;BYMONTH=3;BYDAY=2SU
END:DAYLIGHT
BEGIN:STANDARD
TZOFFSETFROM:-0500
TZOFFSETTO:-0600
TZNAME:CST
DTSTART:19701101T020000
RRULE:FREQ=YEARLY;BYMONTH=11;BYDAY=1SU
END:STANDARD
END:VTIMEZONE
BEGIN:VEVENT
UID:3181080:Event:92234
DTSTAMP:20260423T204200Z
SUMMARY:41st Annual Knifemakers’ Guild Show
DESCRIPTION:Gil Hibben, President of the Knifemakers’ Guild and Jay 
 Hendrickson, President of the William F. Moran, Jr. Museum & Foundatio
 n, Inc. are pleased to announce the joining of these two organizations
  for the 41st Annual Knifemakers’ Guild Show\n\nThe members of the K
 nifemakers’ Guild will be displaying and selling their handmade art 
 and working knives in the Medallion Ballroom of the Seelbach Hilton Ho
 tel, while the William F. Moran Foundation members, as guests of the K
 nifemakers’ Guild, will be displaying and selling their hand forged 
 knife creations in the Mezzanine Ballroom. Additionally, there will be
  a display of knives made by William F. “Bill” Moran, a pioneer of
  modern, hand forged, damascus knives.\n\nSince Bill Moran was a Past 
 President of the Knifemakers’ Guild, it is only fitting that the Gui
 ld and the organization named in Bill’s honor are coming together to
  produce a show that will grow to be the largest “custom only” kni
 fe show in the United States of America.\n\nFor more information visit
  https://iknifecollector.com/events/41st-annual-knifemakers-guild
DTSTART;TZID=America/Chicago:20100917T000000
DTEND;TZID=America/Chicago:20100919T235900
CATEGORIES:"knife show"
LOCATION:Seelbach Hilton Hotel
WEBSITE:
URL:
CONTACT:(502) 222-1397
ORGANIZER:Gil Hibben
ATTACH;FMTTYPE="image/jpeg":
ATTENDEE;ROLE=REQ-PARTICIPANT;PARTSTAT=ACCEPTED;RSVP=TRUE;CN="Mike Car
 ter":https://iknifecollector.com/profile/MikeCarter
ATTENDEE;ROLE=REQ-PARTICIPANT;PARTSTAT=ACCEPTED;RSVP=TRUE;CN="Scott Ki
 ng":https://iknifecollector.com/profile/scottking
END:VEVENT
END:VCALENDAR
