BEGIN:VCALENDAR
PRODID:NingEventWidget-v1
VERSION:2.0
METHOD:PUBLISH
BEGIN:VTIMEZONE
TZID:America/Chicago
X-LIC-LOCATION:America/Chicago
BEGIN:DAYLIGHT
TZOFFSETFROM:-0600
TZOFFSETTO:-0500
TZNAME:CDT
DTSTART:19700308T020000
RRULE:FREQ=YEARLY;BYMONTH=3;BYDAY=2SU
END:DAYLIGHT
BEGIN:STANDARD
TZOFFSETFROM:-0500
TZOFFSETTO:-0600
TZNAME:CST
DTSTART:19701101T020000
RRULE:FREQ=YEARLY;BYMONTH=11;BYDAY=1SU
END:STANDARD
END:VTIMEZONE
BEGIN:VEVENT
UID:3181080:Event:1712924
DTSTAMP:20260422T113159Z
SUMMARY:48th Annual Tar Heel Cutlery Club Show
DESCRIPTION:Pocket - Folding - Sheath - Custom\r\nAmerican & Foreign k
 nives - old and new knives  Old coins and silver dollars, paper money
  and  related items.\r\n\r\nFree admission. \r\nShow hours -\r\nFrid
 ay 10 am - 5 pm\r\nSaturday 9 am - 4 pm\r\n\n\nFor more information vi
 sit https://iknifecollector.com/events/48th-annual-tar-heel-cutlery-cl
 ub-show
DTSTART;TZID=America/Chicago:20230324T000000
DTEND;TZID=America/Chicago:20230325T235900
CATEGORIES:knife, show
LOCATION:Yadkin VFW Building
WEBSITE:
URL:
CONTACT:
ORGANIZER;CN="J.J. Smith III":https://iknifecollector.com/profile/John
 JSmithIII
ATTACH;FMTTYPE="image/jpeg":
ATTENDEE;ROLE=REQ-PARTICIPANT;PARTSTAT=TENTATIVE;RSVP=TRUE;CN="J.J. Sm
 ith III":https://iknifecollector.com/profile/JohnJSmithIII
ATTENDEE;ROLE=REQ-PARTICIPANT;PARTSTAT=TENTATIVE;RSVP=TRUE;CN="Kevin D
 ":https://iknifecollector.com/profile/KevinDrummond
END:VEVENT
END:VCALENDAR
