BEGIN:VCALENDAR
PRODID:NingEventWidget-v1
VERSION:2.0
METHOD:PUBLISH
BEGIN:VTIMEZONE
TZID:America/Chicago
X-LIC-LOCATION:America/Chicago
BEGIN:DAYLIGHT
TZOFFSETFROM:-0600
TZOFFSETTO:-0500
TZNAME:CDT
DTSTART:19700308T020000
RRULE:FREQ=YEARLY;BYMONTH=3;BYDAY=2SU
END:DAYLIGHT
BEGIN:STANDARD
TZOFFSETFROM:-0500
TZOFFSETTO:-0600
TZNAME:CST
DTSTART:19701101T020000
RRULE:FREQ=YEARLY;BYMONTH=11;BYDAY=1SU
END:STANDARD
END:VTIMEZONE
BEGIN:VEVENT
UID:3181080:Event:1426342
DTSTAMP:20260424T111501Z
SUMMARY:6th annual BELLEVILLE KNIFE SHOW
DESCRIPTION:\n\nFor more information visit https://iknifecollector.com
 /events/6th-annual-belleville-knife-show
DTSTART;TZID=America/Chicago:20160708T000000
DTEND;TZID=America/Chicago:20160710T235900
CATEGORIES:knife, show
LOCATION:Belle-Clair Fairgrounds
WEBSITE:http://bcfairgrounds.net/event/belleville-knife-show-july/
URL:http://bcfairgrounds.net/event/belleville-knife-show-july/
CONTACT:
ORGANIZER;CN="Jan Carter":https://iknifecollector.com/profile/JanCarte
 r
ATTACH;FMTTYPE="image/jpeg":
ATTENDEE;ROLE=REQ-PARTICIPANT;PARTSTAT=ACCEPTED;RSVP=TRUE;CN="Tracey R
 eed":https://iknifecollector.com/profile/TraceyReed
ATTENDEE;ROLE=REQ-PARTICIPANT;PARTSTAT=ACCEPTED;RSVP=TRUE;CN="Dan Fitz
 gerald":https://iknifecollector.com/profile/DanFitzgerald
END:VEVENT
END:VCALENDAR
