BEGIN:VCALENDAR
PRODID:NingEventWidget-v1
VERSION:2.0
METHOD:PUBLISH
BEGIN:VTIMEZONE
TZID:America/Chicago
X-LIC-LOCATION:America/Chicago
BEGIN:DAYLIGHT
TZOFFSETFROM:-0600
TZOFFSETTO:-0500
TZNAME:CDT
DTSTART:19700308T020000
RRULE:FREQ=YEARLY;BYMONTH=3;BYDAY=2SU
END:DAYLIGHT
BEGIN:STANDARD
TZOFFSETFROM:-0500
TZOFFSETTO:-0600
TZNAME:CST
DTSTART:19701101T020000
RRULE:FREQ=YEARLY;BYMONTH=11;BYDAY=1SU
END:STANDARD
END:VTIMEZONE
BEGIN:VEVENT
UID:3181080:Event:1160040
DTSTAMP:20260421T041157Z
SUMMARY:ABS NEW ENGLAND HAMMER IN
DESCRIPTION:Daily Schedule of events:\nThursday, July 10, 2014\n6pm - 
 Demonstrator's Dinner β Gipperβs Sports Grill: 120 Center St\nAubu
 rn, Maine 207 786 0715- Everyone is invited and encouraged to attend.\
 nFriday, July 11, 2014\n7:30 - 8am Registration - on site β Barbara 
 Wechter, Registrar and AP smith.\n8 - 5pm - Open Forge β Try forging
  your own blade. Limited grinding available, safety requirements!\n8 β
  10am - Shop β Tong Forging: Box Jaw and Side Grab with Dereck Gla
 ser, NESM Director\n8 β 10am - Classroom β Knife Handle Constructi
 on with Christoph Deringer, MS\n10 β 12 noon - Shop - Blade Forging 
 with Lin Rhea, MS\n10 β 12 noon - Classroom βKnife Design and Aest
 hetics with JD Smith, MS\n12 β 1pm - Lunch β Anvil CafΓ©β on sit
 e and is a la carte.\n1 β 3pm - Shop - Blade Grinding with Lin Rhea,
  MS\n1 β 3pm - Classroom β Filework with JD Smith, MS\n3 β 5pm -
  Shop β Integral Blade Forging with Christoph Deringer, MS\n3 β 5p
 m Classroom β Mock Journeyman Judging: An open critique featuring a 
 panel of rated ABS smiths including; Christoph Deringer, Mace Vitale, 
 David Sylvester, Lin Rhea and JD Smith\n5 β 7pm - Dinner Break\n7 β
  9:30pm - Shop - Battle of the Bladesmiths: Participants TBD\nSaturda
 y, July 12, 2014\n8 β 10am - Shop β Stainless Steel Guard Forging 
 - Lin Rhea, MS\n8 β 10am - Classroom β Honing the Perfect Edge wit
 h Howard Schechter.\n8 - 12 noon - Open Forge β Try forging your own
  blade. Limited grinding available, safety requirements!\n10 β 12 no
 on - Shop βAxe Forging: Wrapped tomahawk and poled hatchet with Stev
 e Ash.\n10 β 12 noon - Classroom β Antique Handmade Knives: Show, 
 tell and discussion with veteran collector Jim Brown.\n12 noon β 1pm
  - Lunch β Anvil CafΓ©β on site and is a la carte.\n1 β 3pm - *K
 nife Show and Best of Show Competition βHunting Knifeβ\n3 β 5pm 
 - *Auction with Masters of Ceremony JD Smith, MS and Mace Vitale, JS.\
 n5 pm - Lobster Dinner - on site under the tent, price is still $20, a
 nd YES, you can have a\nDOUBLE lobster for an additional $10 charge! Y
 ou need to sign up and pay by contacting\nBarbara Wechter at the event
  registration table on Friday before the noon deadline.\n*Note: The Kn
 ife Show and Auction on Saturday afternoon are free/open to the public
 .\nSunday, July 13, 2014\n8 β 10am βShop- Heat Treating with Lin R
 hea, MS\n8 β 10am β Classroom- Hands on Knife Sharpening - Howard 
 Schechter\n8 - 12 noon - Open Forge β Try forging your own blade. Li
 mited grinding available, safety requirements!\n10 β 12 noon - Shop 
 - Round Table Discussion: Marketing yourself and your Knives\n12 noon 
 - End of Event and farewell address.\n\nFor more information visit htt
 ps://iknifecollector.com/events/abs-new-england-hammer-in-1
DTSTART;TZID=America/Chicago:20140711T000000
DTEND;TZID=America/Chicago:20140713T235900
CATEGORIES:custom, knife, show
LOCATION:New England School of Metalwork
WEBSITE:http://www.newenglandschoolofmetalwork.com/bladesmithing/index
 .php?page=abs-new-england-hammer-in
URL:http://www.newenglandschoolofmetalwork.com/bladesmithing/index.php
 ?page=abs-new-england-hammer-in
CONTACT:
ORGANIZER;CN="Jan Carter":https://iknifecollector.com/profile/JanCarte
 r
ATTACH;FMTTYPE="image/jpeg":http://storage.ning.com/topology/rest/1.0/
 file/get/2655259279?profile=original
ATTENDEE;ROLE=REQ-PARTICIPANT;PARTSTAT=ACCEPTED;RSVP=TRUE;CN="Jan Cart
 er":https://iknifecollector.com/profile/JanCarter
END:VEVENT
END:VCALENDAR
