BEGIN:VCALENDAR
PRODID:NingEventWidget-v1
VERSION:2.0
METHOD:PUBLISH
BEGIN:VTIMEZONE
TZID:America/Chicago
X-LIC-LOCATION:America/Chicago
BEGIN:DAYLIGHT
TZOFFSETFROM:-0600
TZOFFSETTO:-0500
TZNAME:CDT
DTSTART:19700308T020000
RRULE:FREQ=YEARLY;BYMONTH=3;BYDAY=2SU
END:DAYLIGHT
BEGIN:STANDARD
TZOFFSETFROM:-0500
TZOFFSETTO:-0600
TZNAME:CST
DTSTART:19701101T020000
RRULE:FREQ=YEARLY;BYMONTH=11;BYDAY=1SU
END:STANDARD
END:VTIMEZONE
BEGIN:VEVENT
UID:3181080:Event:1600206
DTSTAMP:20260424T095242Z
SUMMARY:AIK's 3rd Annual Knife Show
DESCRIPTION:Come and attend AIK's 3rd Annual Knife Show at the Washing
 ton, MO Elk's Lodge! We will have 125 tables filled with the best cust
 om knifemakers and dealers all across the Midwest and beyond!  Automat
 ics, Fixed Blades, Bowie Knives, Daggers, Folders, Survival Knives, Ha
 ndmade Knives, Hunting Knives, Custom, Antique, Bowie Blades, Damascus
 , Factory Knives, Knifemaking Supplies, and More!  Everyone who pays a
 dmission will be entered for FREE in a Grand Prize drawing. Free Knife
  Appraisals will be available as well as Knife Sharpening Services! Br
 ing your dull blades! Come enjoy an all knife show filled with only th
 e best, perfect for the true knife enthusiast.  Show hours are:\n Satu
 rday July 27th from 9:00am to 5:00pm Sunday July 28th from 9:00am to 2
 :00pm.  Admission is only $5. Early bird passes available for $15 get 
 in at 8 am before the crowd! Paid admission gets you entered in the Gr
 and Prize Drawing! Parking is free!  Visit www.aik-knifeshow.com for m
 ore details.\n\nFor more information visit https://iknifecollector.com
 /events/aik-s-3rd-annual-knife-show
DTSTART;TZID=America/Chicago:20190727T090000
DTEND;TZID=America/Chicago:20190728T140000
CATEGORIES:knife, show
LOCATION:Washington MO Elks Lodge
WEBSITE:http://www.aik-knifeshow.com
URL:http://www.aik-knifeshow.com
CONTACT:618-656-9868
ORGANIZER;CN="Adams Intl Knifeworks - AIK":https://iknifecollector.com
 /profile/AIK
ATTACH;FMTTYPE="image/jpeg":https://storage.ning.com/topology/rest/1.0
 /file/get/3189417838?profile=original
ATTENDEE;ROLE=REQ-PARTICIPANT;PARTSTAT=ACCEPTED;RSVP=TRUE;CN="Adams In
 tl Knifeworks - AIK":https://iknifecollector.com/profile/AIK
END:VEVENT
END:VCALENDAR
