BEGIN:VCALENDAR
PRODID:NingEventWidget-v1
VERSION:2.0
METHOD:PUBLISH
BEGIN:VTIMEZONE
TZID:America/Chicago
X-LIC-LOCATION:America/Chicago
BEGIN:DAYLIGHT
TZOFFSETFROM:-0600
TZOFFSETTO:-0500
TZNAME:CDT
DTSTART:19700308T020000
RRULE:FREQ=YEARLY;BYMONTH=3;BYDAY=2SU
END:DAYLIGHT
BEGIN:STANDARD
TZOFFSETFROM:-0500
TZOFFSETTO:-0600
TZNAME:CST
DTSTART:19701101T020000
RRULE:FREQ=YEARLY;BYMONTH=11;BYDAY=1SU
END:STANDARD
END:VTIMEZONE
BEGIN:VEVENT
UID:3181080:Event:1680930
DTSTAMP:20260424T012215Z
SUMMARY:AIK’s Knife Show  **  MO
DESCRIPTION:AIK's 5th Annual Knife Show is being held July 17 & 18th, 
 2021 at the Elks Lodge in Washington, MO. We will have 125 Tables full
  of the best dealers, suppliers, and custom knifemakers from the Mi
 dwest and beyond. Admission is only $5, paid admission gets your enter
 ed in the Grand Prize Drawing! Dealer Information please contact Cryst
 al at 618-656-9868 or email at adamsknifeworks.com@gmail.com. More 
 details can be found here:  aik-knifeshow.com\n\nFor more information
  visit https://iknifecollector.com/events/aik-s-knife-show-mo
DTSTART;TZID=America/Chicago:20210717T180000
DTEND;TZID=America/Chicago:20210718T190000
CATEGORIES:knife, show
LOCATION:Washington MO Elks Lodge,
WEBSITE:
URL:
CONTACT:
ORGANIZER;CN="Jan Carter":https://iknifecollector.com/profile/JanCarte
 r
ATTACH;FMTTYPE="image/jpeg":
END:VEVENT
END:VCALENDAR
