BEGIN:VCALENDAR
PRODID:NingEventWidget-v1
VERSION:2.0
METHOD:PUBLISH
BEGIN:VTIMEZONE
TZID:America/Chicago
X-LIC-LOCATION:America/Chicago
BEGIN:DAYLIGHT
TZOFFSETFROM:-0600
TZOFFSETTO:-0500
TZNAME:CDT
DTSTART:19700308T020000
RRULE:FREQ=YEARLY;BYMONTH=3;BYDAY=2SU
END:DAYLIGHT
BEGIN:STANDARD
TZOFFSETFROM:-0500
TZOFFSETTO:-0600
TZNAME:CST
DTSTART:19701101T020000
RRULE:FREQ=YEARLY;BYMONTH=11;BYDAY=1SU
END:STANDARD
END:VTIMEZONE
BEGIN:VEVENT
UID:3181080:Event:1532779
DTSTAMP:20260422T190300Z
SUMMARY:AIK's Second Annual Knife Show **MO
DESCRIPTION:Come join us for AIK's Knife Show at the\r\nElks Lodge in 
 Washington, MO! \r\n​\r\nWe will have 125 tables filled with the 
 best custom knifemakers and dealers all across the Midwest and beyond!
   ​\r\nAutomatics, Fixed Blades, Bowie Knives, Daggers, Folders, Su
 rvival Knives, Handmade Knives, Hunting Knives, Custom, Antique, Bowie
  Blades, Damascus, Factory Knives, Knifemaking Supplies, and More!\r\n
 A LIVE Blade Forging Demonstration will be taking place Saturday from
  4-5! (This is similar to the show, Forged in Fire) everyone who pay
 s admission will be able to watch the demonstration and will also be a
 ble to enter for FREE in a Grand Prize drawing.  Free Knife Appraisal
 s will be available.  Come enjoy an all knife show filled with only t
 he best, perfect for the true knife enthusiast.\r\n\n\nFor more inform
 ation visit https://iknifecollector.com/events/aik-s-second-annual-kni
 fe-show
DTSTART;TZID=America/Chicago:20180727T130000
DTEND;TZID=America/Chicago:20180729T140000
CATEGORIES:knife, show
LOCATION:Washington MO Elks Lodge, 1459 W 5th St, Washington, MO, 6309
 0
WEBSITE:http://www.aik-knifeshow.com
URL:http://www.aik-knifeshow.com
CONTACT:
ORGANIZER;CN="Adams Intl Knifeworks - AIK":https://iknifecollector.com
 /profile/AIK
ATTACH;FMTTYPE="image/jpeg":
ATTENDEE;ROLE=REQ-PARTICIPANT;PARTSTAT=ACCEPTED;RSVP=TRUE;CN="Adams In
 tl Knifeworks - AIK":https://iknifecollector.com/profile/AIK
END:VEVENT
END:VCALENDAR
