BEGIN:VCALENDAR
PRODID:NingEventWidget-v1
VERSION:2.0
METHOD:PUBLISH
BEGIN:VTIMEZONE
TZID:America/Chicago
X-LIC-LOCATION:America/Chicago
BEGIN:DAYLIGHT
TZOFFSETFROM:-0600
TZOFFSETTO:-0500
TZNAME:CDT
DTSTART:19700308T020000
RRULE:FREQ=YEARLY;BYMONTH=3;BYDAY=2SU
END:DAYLIGHT
BEGIN:STANDARD
TZOFFSETFROM:-0500
TZOFFSETTO:-0600
TZNAME:CST
DTSTART:19701101T020000
RRULE:FREQ=YEARLY;BYMONTH=11;BYDAY=1SU
END:STANDARD
END:VTIMEZONE
BEGIN:VEVENT
UID:3181080:Event:492930
DTSTAMP:20260425T061835Z
SUMMARY:American Bladesmith's Society 9th All Forged Blade Expo
DESCRIPTION:The 2012 American Bladesmith Society's all forged blade E
 XPO is the premier show for hand forged blades. From utility blades, t
 o the finest forged and crafted art knives, the ABS EXPO has something
  for everyone. The show is held in San Antonio, Texas, the home of 
 the Alamo.\n \nSee some of the world's finest forged knives showcased
  in a unique and informative format for the enjoyment of the forged bl
 ade collector/enthusiast by American Bladesmith Society Mastersmiths a
 nd Journeyman Smiths.\n\nFor more information visit https://iknifecoll
 ector.com/events/american-bladesmith-s-society-9th-all-forged-blade-ex
 po
DTSTART;TZID=America/Chicago:20120127T000000
DTEND;TZID=America/Chicago:20120129T235900
CATEGORIES:blade, expo
LOCATION:Sheraton Gunter San Antonio
WEBSITE:http://www.americanbladesmith.com/index.php?section=events&sub
 section=show_events_details&events_id=34
URL:http://www.americanbladesmith.com/index.php?section=events&subsect
 ion=show_events_details&events_id=34
CONTACT:(888) 999-2089
ORGANIZER:
ATTACH;FMTTYPE="image/jpeg":http://storage.ning.com/topology/rest/1.0/
 file/get/2831307338?profile=original
ATTENDEE;ROLE=REQ-PARTICIPANT;PARTSTAT=ACCEPTED;RSVP=TRUE;CN="Jan Cart
 er":https://iknifecollector.com/profile/JanCarter
END:VEVENT
END:VCALENDAR
