BEGIN:VCALENDAR
PRODID:NingEventWidget-v1
VERSION:2.0
METHOD:PUBLISH
BEGIN:VTIMEZONE
TZID:America/Chicago
X-LIC-LOCATION:America/Chicago
BEGIN:DAYLIGHT
TZOFFSETFROM:-0600
TZOFFSETTO:-0500
TZNAME:CDT
DTSTART:19700308T020000
RRULE:FREQ=YEARLY;BYMONTH=3;BYDAY=2SU
END:DAYLIGHT
BEGIN:STANDARD
TZOFFSETFROM:-0500
TZOFFSETTO:-0600
TZNAME:CST
DTSTART:19701101T020000
RRULE:FREQ=YEARLY;BYMONTH=11;BYDAY=1SU
END:STANDARD
END:VTIMEZONE
BEGIN:VEVENT
UID:3181080:Event:981859
DTSTAMP:20260424T192939Z
SUMMARY:Arizona Knife Collector's Show
DESCRIPTION:45th Arizona Knife Collector's Association show.\n\nFor m
 ore information visit https://iknifecollector.com/events/arizona-knife
 -collector-s-show
DTSTART;TZID=America/Chicago:20140111T090000
DTEND;TZID=America/Chicago:20140112T150000
CATEGORIES:knife, show
LOCATION:El Zaribah Shrine Hall
WEBSITE:http://www.arizonaknifecollectors.org
URL:http://www.arizonaknifecollectors.org
CONTACT:(480) 987-3576
ORGANIZER:Arizona Knife Collector's Association
ATTACH;FMTTYPE="image/jpeg":http://storage.ning.com/topology/rest/1.0/
 file/get/2831420246?profile=original
ATTENDEE;ROLE=REQ-PARTICIPANT;PARTSTAT=ACCEPTED;RSVP=TRUE;CN="Gary P. 
 Fields":https://iknifecollector.com/profile/GaryPFields360
END:VEVENT
END:VCALENDAR
