BEGIN:VCALENDAR
PRODID:NingEventWidget-v1
VERSION:2.0
METHOD:PUBLISH
BEGIN:VTIMEZONE
TZID:America/Chicago
X-LIC-LOCATION:America/Chicago
BEGIN:DAYLIGHT
TZOFFSETFROM:-0600
TZOFFSETTO:-0500
TZNAME:CDT
DTSTART:19700308T020000
RRULE:FREQ=YEARLY;BYMONTH=3;BYDAY=2SU
END:DAYLIGHT
BEGIN:STANDARD
TZOFFSETFROM:-0500
TZOFFSETTO:-0600
TZNAME:CST
DTSTART:19701101T020000
RRULE:FREQ=YEARLY;BYMONTH=11;BYDAY=1SU
END:STANDARD
END:VTIMEZONE
BEGIN:VEVENT
UID:3181080:Event:1228646
DTSTAMP:20260425T100610Z
SUMMARY:Arizona Knife Collectors Assoc.  Show
DESCRIPTION:The Annual Phoenix Gun & Knife Show will be held on Jan 10
 th – 11th, 2015 in Phoenix, Arizona. This Phoenix gun show will be h
 eld at the El Zaribah Shriners and hosted by Arizona Knife Collectors 
 Association of Arizona. All federal, state and local firearm ordinance
 s and laws must be obeyed.\nEnjoy the 2015 Annual AKCA Knife and Gun S
 how with Custom and Factory Knives and Guns, Antiques, Collectibles, 
 ATM, Knife Sharpening. Forging, Grinding and Cutting Demos.\n\nFor mor
 e information visit https://iknifecollector.com/events/arizona-knife-c
 ollectors-assoc-show
DTSTART;TZID=America/Chicago:20150110T000000
DTEND;TZID=America/Chicago:20150111T235900
CATEGORIES:knife, show
LOCATION:El Zaribah Shriners
WEBSITE:http://www.arizonaknifecollectors.org/54/
URL:http://www.arizonaknifecollectors.org/54/
CONTACT:
ORGANIZER;CN="Jan Carter":https://iknifecollector.com/profile/JanCarte
 r
ATTACH;FMTTYPE="image/jpeg":
ATTENDEE;ROLE=REQ-PARTICIPANT;PARTSTAT=ACCEPTED;RSVP=TRUE;CN="Leopold 
 Lacrimosa":https://iknifecollector.com/profile/LeopoldLacrimosa
ATTENDEE;ROLE=REQ-PARTICIPANT;PARTSTAT=ACCEPTED;RSVP=TRUE;CN="Jan Cart
 er":https://iknifecollector.com/profile/JanCarter
END:VEVENT
END:VCALENDAR
