BEGIN:VCALENDAR
PRODID:NingEventWidget-v1
VERSION:2.0
METHOD:PUBLISH
BEGIN:VTIMEZONE
TZID:America/Chicago
X-LIC-LOCATION:America/Chicago
BEGIN:DAYLIGHT
TZOFFSETFROM:-0600
TZOFFSETTO:-0500
TZNAME:CDT
DTSTART:19700308T020000
RRULE:FREQ=YEARLY;BYMONTH=3;BYDAY=2SU
END:DAYLIGHT
BEGIN:STANDARD
TZOFFSETFROM:-0500
TZOFFSETTO:-0600
TZNAME:CST
DTSTART:19701101T020000
RRULE:FREQ=YEARLY;BYMONTH=11;BYDAY=1SU
END:STANDARD
END:VTIMEZONE
BEGIN:VEVENT
UID:3181080:Event:1684228
DTSTAMP:20260424T010848Z
SUMMARY:Arts in Metal Premier Art Knife Exhibition  **TN**
DESCRIPTION:Presented by Fifty Fifty Productions, Arts in Metal is a p
 remier art knife exhibition that invites a selection of the world’s 
 finest knifemakers to showcase their best works of the year to discern
 ing collectors. The show will take place at the 21c Museum Hotel in Na
 shville, Tennessee on September 25, 2021. Collector Passes for the eve
 nt are sold through advanced reservation only. Passes and more informa
 tion available at www.artinmetalshow.com.\n\nFor more information visi
 t https://iknifecollector.com/events/arts-in-metal-premier-art-knife-e
 xhibition-tn
DTSTART;TZID=America/Chicago:20210925T120000
DTEND;TZID=America/Chicago:20210925T233000
CATEGORIES:knife, exhibition
LOCATION:21C Museum Hotel Nashville
WEBSITE:http://www.artinmetalshow.com
URL:http://www.artinmetalshow.com
CONTACT:
ORGANIZER;CN="Jan Carter":https://iknifecollector.com/profile/JanCarte
 r
ATTACH;FMTTYPE="image/jpeg":
END:VEVENT
END:VCALENDAR
