BEGIN:VCALENDAR
PRODID:NingEventWidget-v1
VERSION:2.0
METHOD:PUBLISH
BEGIN:VTIMEZONE
TZID:America/Chicago
X-LIC-LOCATION:America/Chicago
BEGIN:DAYLIGHT
TZOFFSETFROM:-0600
TZOFFSETTO:-0500
TZNAME:CDT
DTSTART:19700308T020000
RRULE:FREQ=YEARLY;BYMONTH=3;BYDAY=2SU
END:DAYLIGHT
BEGIN:STANDARD
TZOFFSETFROM:-0500
TZOFFSETTO:-0600
TZNAME:CST
DTSTART:19701101T020000
RRULE:FREQ=YEARLY;BYMONTH=11;BYDAY=1SU
END:STANDARD
END:VTIMEZONE
BEGIN:VEVENT
UID:3181080:Event:479630
DTSTAMP:20260424T160055Z
SUMMARY:Ashland Gun & Knife Show
DESCRIPTION:The Ashland Gun and Knife Show will be held on Saturday, D
 ecember 3rd thru Sunday, December 4th, 2011. The Ashland, KY Gun Show 
 will be held at the El Hasa Shrine Temple and is hosted by the R.K. Sh
 ows Inc of Kentucky.\nWith over 20 years of experience you will be abl
 e to enjoy the highest quality gun shows. There will be a large amount
  of guns and knives available to buy, sell and trade\n\nFor more infor
 mation visit https://iknifecollector.com/events/ashland-gun-knife-show
DTSTART;TZID=America/Chicago:20111203T000000
DTEND;TZID=America/Chicago:20111204T235900
CATEGORIES:gun, and, knife, show
LOCATION:El Hasa Shrine Temple
WEBSITE:
URL:
CONTACT:(606) 289-9529
ORGANIZER;CN="Jan Carter":https://iknifecollector.com/profile/JanCarte
 r
ATTACH;FMTTYPE="image/jpeg":
ATTENDEE;ROLE=REQ-PARTICIPANT;PARTSTAT=ACCEPTED;RSVP=TRUE;CN="Roger Cu
 nningham":https://iknifecollector.com/profile/RogerCunningham
ATTENDEE;ROLE=REQ-PARTICIPANT;PARTSTAT=ACCEPTED;RSVP=TRUE;CN="Jan Cart
 er":https://iknifecollector.com/profile/JanCarter
END:VEVENT
END:VCALENDAR
