BEGIN:VCALENDAR
PRODID:NingEventWidget-v1
VERSION:2.0
METHOD:PUBLISH
BEGIN:VTIMEZONE
TZID:America/Chicago
X-LIC-LOCATION:America/Chicago
BEGIN:DAYLIGHT
TZOFFSETFROM:-0600
TZOFFSETTO:-0500
TZNAME:CDT
DTSTART:19700308T020000
RRULE:FREQ=YEARLY;BYMONTH=3;BYDAY=2SU
END:DAYLIGHT
BEGIN:STANDARD
TZOFFSETFROM:-0500
TZOFFSETTO:-0600
TZNAME:CST
DTSTART:19701101T020000
RRULE:FREQ=YEARLY;BYMONTH=11;BYDAY=1SU
END:STANDARD
END:VTIMEZONE
BEGIN:VEVENT
UID:3181080:Event:1694055
DTSTAMP:20260421T071833Z
SUMMARY:Badger Knife Show**WI**
DESCRIPTION:175 tables featuring custom knives, factory knives, antiqu
 e knives, dealers, suppliers and displays. Be sure to check out the Di
 splays and Silent Auction! $5.00 at door, $8.00 Three day pass. Childr
 en under 13 free when accompanied by an adult. $20.00 Early Bird Pass 
 available at the door. Janesville Wisconsin is located approximately 1
 /2 hour south of Madison and 1/2 hour north of Rockford, IL. \n\nFor 
 more information visit https://iknifecollector.com/events/badger-knife
 -show-wi
DTSTART;TZID=America/Chicago:20220325T000000
DTEND;TZID=America/Chicago:20220327T235900
CATEGORIES:knife, show
LOCATION:Janesville Conference Center
WEBSITE:https://badgerknifeclub.com/
URL:https://badgerknifeclub.com/
CONTACT:
ORGANIZER;CN="Jan Carter":https://iknifecollector.com/profile/JanCarte
 r
ATTACH;FMTTYPE="image/jpeg":
END:VEVENT
END:VCALENDAR
