BEGIN:VCALENDAR
PRODID:NingEventWidget-v1
VERSION:2.0
METHOD:PUBLISH
BEGIN:VTIMEZONE
TZID:America/Chicago
X-LIC-LOCATION:America/Chicago
BEGIN:DAYLIGHT
TZOFFSETFROM:-0600
TZOFFSETTO:-0500
TZNAME:CDT
DTSTART:19700308T020000
RRULE:FREQ=YEARLY;BYMONTH=3;BYDAY=2SU
END:DAYLIGHT
BEGIN:STANDARD
TZOFFSETFROM:-0500
TZOFFSETTO:-0600
TZNAME:CST
DTSTART:19701101T020000
RRULE:FREQ=YEARLY;BYMONTH=11;BYDAY=1SU
END:STANDARD
END:VTIMEZONE
BEGIN:VEVENT
UID:3181080:Event:822585
DTSTAMP:20260422T221246Z
SUMMARY:Batson Bladesmithing and Knife Show
DESCRIPTION:Youth Hands-On Forging Sites for Boy Scouts and other yout
 hs with adult, free to youthsunder 16. We should have the best Knife S
 how ever! Your table fee is free to paid participants.Bring your best 
 knife for the Cutting Contest and a knife for the Railroad Spike Knife
  Contest.There will be Knife Suppliers, Tail Gate Sales, and Tool Vend
 ersBring items for the Auction.\n\nFor more information visit https://
 iknifecollector.com/events/batson-bladesmithing-and-knife-show
DTSTART;TZID=America/Chicago:20130405T000000
DTEND;TZID=America/Chicago:20130407T235900
CATEGORIES:bladesmithing, and, knife, show
LOCATION:TANNEHILL IRONWORKS
WEBSITE:http://www.alaforge.org/files/2013_BatsonBlade_15Mar13_correct
 ion.pdf
URL:http://www.alaforge.org/files/2013_BatsonBlade_15Mar13_correction.
 pdf
CONTACT:
ORGANIZER;CN="Jan Carter":https://iknifecollector.com/profile/JanCarte
 r
ATTACH;FMTTYPE="image/jpeg":
ATTENDEE;ROLE=REQ-PARTICIPANT;PARTSTAT=ACCEPTED;RSVP=TRUE;CN="Jan Cart
 er":https://iknifecollector.com/profile/JanCarter
END:VEVENT
END:VCALENDAR
