BEGIN:VCALENDAR
PRODID:NingEventWidget-v1
VERSION:2.0
METHOD:PUBLISH
BEGIN:VTIMEZONE
TZID:America/Chicago
X-LIC-LOCATION:America/Chicago
BEGIN:DAYLIGHT
TZOFFSETFROM:-0600
TZOFFSETTO:-0500
TZNAME:CDT
DTSTART:19700308T020000
RRULE:FREQ=YEARLY;BYMONTH=3;BYDAY=2SU
END:DAYLIGHT
BEGIN:STANDARD
TZOFFSETFROM:-0500
TZOFFSETTO:-0600
TZNAME:CST
DTSTART:19701101T020000
RRULE:FREQ=YEARLY;BYMONTH=11;BYDAY=1SU
END:STANDARD
END:VTIMEZONE
BEGIN:VEVENT
UID:3181080:Event:1553391
DTSTAMP:20260422T220529Z
SUMMARY:BATTLE HORSE KNIVES CAMPOUT **ohio
DESCRIPTION:\n\nFor more information visit https://iknifecollector.com
 /events/battle-horse-knives-campout-ohio-1
DTSTART;TZID=America/Chicago:20180914T180000
DTEND;TZID=America/Chicago:20180916T190000
CATEGORIES:field, "test/", camp, out
LOCATION:McConnelsville
WEBSITE:https://www.battlehorseknives.com/home.php
URL:https://www.battlehorseknives.com/home.php
CONTACT:
ORGANIZER;CN="Jan Carter":https://iknifecollector.com/profile/JanCarte
 r
ATTACH;FMTTYPE="image/jpeg":http://storage.ning.com/topology/rest/1.0/
 file/get/2831596811?profile=original
ATTENDEE;ROLE=REQ-PARTICIPANT;PARTSTAT=ACCEPTED;RSVP=TRUE;CN="Jeremy B
 . Buchanan":https://iknifecollector.com/profile/JeremyBBuchanan
END:VEVENT
END:VCALENDAR
