BEGIN:VCALENDAR
PRODID:NingEventWidget-v1
VERSION:2.0
METHOD:PUBLISH
BEGIN:VTIMEZONE
TZID:America/Chicago
X-LIC-LOCATION:America/Chicago
BEGIN:DAYLIGHT
TZOFFSETFROM:-0600
TZOFFSETTO:-0500
TZNAME:CDT
DTSTART:19700308T020000
RRULE:FREQ=YEARLY;BYMONTH=3;BYDAY=2SU
END:DAYLIGHT
BEGIN:STANDARD
TZOFFSETFROM:-0500
TZOFFSETTO:-0600
TZNAME:CST
DTSTART:19701101T020000
RRULE:FREQ=YEARLY;BYMONTH=11;BYDAY=1SU
END:STANDARD
END:VTIMEZONE
BEGIN:VEVENT
UID:3181080:Event:1192664
DTSTAMP:20260425T184746Z
SUMMARY:Bear and Sons Factory sale
DESCRIPTION:They will be having their annual sale at the factory on No
 vember 21/22/23.  They will have a way for you to visit and see the p
 roduction line, special offerings and someone there to help answer que
 stions about the new Remington partnership\n\nFor more information vis
 it https://iknifecollector.com/events/bear-and-sons-factory-sale
DTSTART;TZID=America/Chicago:20141121T000000
DTEND;TZID=America/Chicago:20141123T235900
CATEGORIES:bear, and, sons, factory, sale
LOCATION:Bear & Son Cutlery
WEBSITE:http://www.bearandsoncutlery.com/products/
URL:http://www.bearandsoncutlery.com/products/
CONTACT:
ORGANIZER;CN="Jan Carter":https://iknifecollector.com/profile/JanCarte
 r
ATTACH;FMTTYPE="image/jpeg":http://storage.ning.com/topology/rest/1.0/
 file/get/2655270591?profile=original
ATTENDEE;ROLE=REQ-PARTICIPANT;PARTSTAT=ACCEPTED;RSVP=TRUE;CN="Jan Cart
 er":https://iknifecollector.com/profile/JanCarter
END:VEVENT
END:VCALENDAR
