BEGIN:VCALENDAR
PRODID:NingEventWidget-v1
VERSION:2.0
METHOD:PUBLISH
BEGIN:VTIMEZONE
TZID:America/Chicago
X-LIC-LOCATION:America/Chicago
BEGIN:DAYLIGHT
TZOFFSETFROM:-0600
TZOFFSETTO:-0500
TZNAME:CDT
DTSTART:19700308T020000
RRULE:FREQ=YEARLY;BYMONTH=3;BYDAY=2SU
END:DAYLIGHT
BEGIN:STANDARD
TZOFFSETFROM:-0500
TZOFFSETTO:-0600
TZNAME:CST
DTSTART:19701101T020000
RRULE:FREQ=YEARLY;BYMONTH=11;BYDAY=1SU
END:STANDARD
END:VTIMEZONE
BEGIN:VEVENT
UID:3181080:Event:493824
DTSTAMP:20260424T145302Z
SUMMARY:Bear & Son 15th Annual Appreciation Sale
DESCRIPTION:Manufactured in your own backyard!\nMany Prototypes & Manu
 facturer overruns.\nRare Buffalo Horn, Genuine India Stag Horn & Mothe
 r of Pearl Handles!\nRare 512-Layer Damascus Blades!\nHUNTER’S SPECI
 ALS!\nNew Non-Slip Handle Hunting Knife $20\nDOOR PRIZES!!!\nHOURLY GI
 VE AWAYS!\nSUPER RARE\nLarge DamascusBowies!!!\nLIMITED QUANITIES\nFir
 st quality kitchen knives from Forschner including paring & steak sets
 \nCome do your Christmas shopping with us!\n\nFor more information vis
 it https://iknifecollector.com/events/bear-son-15th-annual-appreciatio
 n-sale
DTSTART;TZID=America/Chicago:20111118T000000
DTEND;TZID=America/Chicago:20111120T235900
CATEGORIES:knife, sale
LOCATION:Jacksonville, AL
WEBSITE:http://www.bearandsoncutlery.com
URL:http://www.bearandsoncutlery.com
CONTACT:256-435-2227
ORGANIZER:
ATTACH;FMTTYPE="image/jpeg":
ATTENDEE;ROLE=REQ-PARTICIPANT;PARTSTAT=ACCEPTED;RSVP=TRUE;CN="Jan Cart
 er":https://iknifecollector.com/profile/JanCarter
END:VEVENT
END:VCALENDAR
