BEGIN:VCALENDAR
PRODID:NingEventWidget-v1
VERSION:2.0
METHOD:PUBLISH
BEGIN:VTIMEZONE
TZID:America/Chicago
X-LIC-LOCATION:America/Chicago
BEGIN:DAYLIGHT
TZOFFSETFROM:-0600
TZOFFSETTO:-0500
TZNAME:CDT
DTSTART:19700308T020000
RRULE:FREQ=YEARLY;BYMONTH=3;BYDAY=2SU
END:DAYLIGHT
BEGIN:STANDARD
TZOFFSETFROM:-0500
TZOFFSETTO:-0600
TZNAME:CST
DTSTART:19701101T020000
RRULE:FREQ=YEARLY;BYMONTH=11;BYDAY=1SU
END:STANDARD
END:VTIMEZONE
BEGIN:VEVENT
UID:3181080:Event:1259238
DTSTAMP:20260424T183142Z
SUMMARY:Blade Show 2015
DESCRIPTION:THE BLADE SHOW 2015\nExperience the world’s largest knif
 e show and ultimate blade shopping experience. With more than 300 boot
 hs, thousands of products and nearly 700 tables showcasing custom kniv
 es and knife-related products, you’ll need all three days to explore
  it all.\n\nCollectors and blade enthusiasts can find the best knives 
 and sharpest seminars all under one roof. Plus, BLADE University retur
 ns with your chance to learn from the legends—all at BLADE Show 2015
 !\n\nFor more information visit https://iknifecollector.com/events/bla
 de-show-2015
DTSTART;TZID=America/Chicago:20150605T000000
DTEND;TZID=America/Chicago:20150607T235900
CATEGORIES:knife, show
LOCATION:The Cobb Galleria
WEBSITE:http://www.bladeshow.com/
URL:http://www.bladeshow.com/
CONTACT:
ORGANIZER;CN="Jan Carter":https://iknifecollector.com/profile/JanCarte
 r
ATTACH;FMTTYPE="image/jpeg":http://storage.ning.com/topology/rest/1.0/
 file/get/2831492352?profile=original
ATTENDEE;ROLE=REQ-PARTICIPANT;PARTSTAT=ACCEPTED;RSVP=TRUE;CN="Adam Arc
 her":https://iknifecollector.com/profile/AdamArcher
ATTENDEE;ROLE=REQ-PARTICIPANT;PARTSTAT=ACCEPTED;RSVP=TRUE;CN="Ken Mund
 henk":https://iknifecollector.com/profile/KenMundhenk
ATTENDEE;ROLE=REQ-PARTICIPANT;PARTSTAT=ACCEPTED;RSVP=TRUE;CN="David Pa
 trick":https://iknifecollector.com/profile/dtp4939
ATTENDEE;ROLE=REQ-PARTICIPANT;PARTSTAT=ACCEPTED;RSVP=TRUE;CN="Tracey R
 eed":https://iknifecollector.com/profile/TraceyReed
ATTENDEE;ROLE=REQ-PARTICIPANT;PARTSTAT=ACCEPTED;RSVP=TRUE;CN="Roger Cu
 nningham":https://iknifecollector.com/profile/RogerCunningham
ATTENDEE;ROLE=REQ-PARTICIPANT;PARTSTAT=ACCEPTED;RSVP=TRUE;CN="John H N
 affke Jr":https://iknifecollector.com/profile/JohnHNaffkeJr
ATTENDEE;ROLE=REQ-PARTICIPANT;PARTSTAT=ACCEPTED;RSVP=TRUE;CN="Carl Rec
 hsteiner":https://iknifecollector.com/profile/CarlRechsteiner
ATTENDEE;ROLE=REQ-PARTICIPANT;PARTSTAT=ACCEPTED;RSVP=TRUE;CN="Mark Zal
 esky":https://iknifecollector.com/profile/MarkZalesky
ATTENDEE;ROLE=REQ-PARTICIPANT;PARTSTAT=ACCEPTED;RSVP=TRUE;CN="David Jo
 seph Steier":https://iknifecollector.com/profile/DavidJosephSteier
ATTENDEE;ROLE=REQ-PARTICIPANT;PARTSTAT=ACCEPTED;RSVP=TRUE;CN="Ricky Ra
 y":https://iknifecollector.com/profile/RickyRay
ATTENDEE;ROLE=REQ-PARTICIPANT;PARTSTAT=ACCEPTED;RSVP=TRUE;CN="Jan Cart
 er":https://iknifecollector.com/profile/JanCarter
ATTENDEE;ROLE=REQ-PARTICIPANT;PARTSTAT=ACCEPTED;RSVP=TRUE;CN="Jim Kitc
 hens":https://iknifecollector.com/profile/JimKitchens
ATTENDEE;ROLE=REQ-PARTICIPANT;PARTSTAT=TENTATIVE;RSVP=TRUE;CN="vince c
 ummings":https://iknifecollector.com/profile/vincecummings
ATTENDEE;ROLE=REQ-PARTICIPANT;PARTSTAT=TENTATIVE;RSVP=TRUE;CN="ken bee
 m":https://iknifecollector.com/profile/kenbeem
END:VEVENT
END:VCALENDAR
