BEGIN:VCALENDAR
PRODID:NingEventWidget-v1
VERSION:2.0
METHOD:PUBLISH
BEGIN:VTIMEZONE
TZID:America/Chicago
X-LIC-LOCATION:America/Chicago
BEGIN:DAYLIGHT
TZOFFSETFROM:-0600
TZOFFSETTO:-0500
TZNAME:CDT
DTSTART:19700308T020000
RRULE:FREQ=YEARLY;BYMONTH=3;BYDAY=2SU
END:DAYLIGHT
BEGIN:STANDARD
TZOFFSETFROM:-0500
TZOFFSETTO:-0600
TZNAME:CST
DTSTART:19701101T020000
RRULE:FREQ=YEARLY;BYMONTH=11;BYDAY=1SU
END:STANDARD
END:VTIMEZONE
BEGIN:VEVENT
UID:3181080:Event:1359726
DTSTAMP:20260424T145742Z
SUMMARY:Blade Show 2016
DESCRIPTION:BLADE SHOW 2016 CELEBRATES 35 YEARS!\nJoin BLADE magazine 
 and experience the world’s largest knife show and ultimate blade sho
 pping experience. With more than 300 booths, over 650 tables, thousand
 s of products and nearly 800 total exhibitors showcasing custom knives
  and knife-related products, you’ll need all three days to explore i
 t all.\n \nCollectors and blade enthusiasts can find the best knives 
 and sharpest seminars all under one roof. Plus, BLADE University retur
 ns with your chance to learn from the legends—all at BLADE Show 2016
 !\n\nFor more information visit https://iknifecollector.com/events/bla
 de-show-2016
DTSTART;TZID=America/Chicago:20160603T000000
DTEND;TZID=America/Chicago:20160605T235900
CATEGORIES:knife, show
LOCATION:Cobb Galleria
WEBSITE:http://www.bladeshow.com/
URL:http://www.bladeshow.com/
CONTACT:
ORGANIZER;CN="Jan Carter":https://iknifecollector.com/profile/JanCarte
 r
ATTACH;FMTTYPE="image/jpeg":http://storage.ning.com/topology/rest/1.0/
 file/get/2831525146?profile=original
ATTENDEE;ROLE=REQ-PARTICIPANT;PARTSTAT=ACCEPTED;RSVP=TRUE;CN="Bryan W"
 :https://iknifecollector.com/profile/BryanW
ATTENDEE;ROLE=REQ-PARTICIPANT;PARTSTAT=ACCEPTED;RSVP=TRUE;CN="Adam Arc
 her":https://iknifecollector.com/profile/AdamArcher
ATTENDEE;ROLE=REQ-PARTICIPANT;PARTSTAT=ACCEPTED;RSVP=TRUE;CN="Dan Fitz
 gerald":https://iknifecollector.com/profile/DanFitzgerald
ATTENDEE;ROLE=REQ-PARTICIPANT;PARTSTAT=ACCEPTED;RSVP=TRUE;CN="John H N
 affke Jr":https://iknifecollector.com/profile/JohnHNaffkeJr
ATTENDEE;ROLE=REQ-PARTICIPANT;PARTSTAT=ACCEPTED;RSVP=TRUE;CN="Gina Sar
 gent Smith":https://iknifecollector.com/profile/GinaSargentSmith
ATTENDEE;ROLE=REQ-PARTICIPANT;PARTSTAT=ACCEPTED;RSVP=TRUE;CN="Tracey R
 eed":https://iknifecollector.com/profile/TraceyReed
ATTENDEE;ROLE=REQ-PARTICIPANT;PARTSTAT=ACCEPTED;RSVP=TRUE;CN="Mark Zal
 esky":https://iknifecollector.com/profile/MarkZalesky
ATTENDEE;ROLE=REQ-PARTICIPANT;PARTSTAT=ACCEPTED;RSVP=TRUE;CN="Jan Cart
 er":https://iknifecollector.com/profile/JanCarter
END:VEVENT
END:VCALENDAR
