BEGIN:VCALENDAR
PRODID:NingEventWidget-v1
VERSION:2.0
METHOD:PUBLISH
BEGIN:VTIMEZONE
TZID:America/Chicago
X-LIC-LOCATION:America/Chicago
BEGIN:DAYLIGHT
TZOFFSETFROM:-0600
TZOFFSETTO:-0500
TZNAME:CDT
DTSTART:19700308T020000
RRULE:FREQ=YEARLY;BYMONTH=3;BYDAY=2SU
END:DAYLIGHT
BEGIN:STANDARD
TZOFFSETFROM:-0500
TZOFFSETTO:-0600
TZNAME:CST
DTSTART:19701101T020000
RRULE:FREQ=YEARLY;BYMONTH=11;BYDAY=1SU
END:STANDARD
END:VTIMEZONE
BEGIN:VEVENT
UID:3181080:Event:1700845
DTSTAMP:20260425T080813Z
SUMMARY:Blade Show West
DESCRIPTION:A western knife show presented by the company that present
 s the annual Blade Show in Atlanta, GA.\n\nFor more information visit 
 https://iknifecollector.com/events/blade-show-west-1
DTSTART;TZID=America/Chicago:20221007T000000
DTEND;TZID=America/Chicago:20221008T235900
CATEGORIES:knife, show
LOCATION:Salt Palace Convention Center
WEBSITE:http://www.bladeshowwest.com
URL:http://www.bladeshowwest.com
CONTACT:
ORGANIZER:
ATTACH;FMTTYPE="image/jpeg":
ATTENDEE;ROLE=REQ-PARTICIPANT;PARTSTAT=ACCEPTED;RSVP=TRUE;CN="Sergi C.
  Heideman":https://iknifecollector.com/profile/SergiCHeideman
END:VEVENT
END:VCALENDAR
