BEGIN:VCALENDAR
PRODID:NingEventWidget-v1
VERSION:2.0
METHOD:PUBLISH
BEGIN:VTIMEZONE
TZID:America/Chicago
X-LIC-LOCATION:America/Chicago
BEGIN:DAYLIGHT
TZOFFSETFROM:-0600
TZOFFSETTO:-0500
TZNAME:CDT
DTSTART:19700308T020000
RRULE:FREQ=YEARLY;BYMONTH=3;BYDAY=2SU
END:DAYLIGHT
BEGIN:STANDARD
TZOFFSETFROM:-0500
TZOFFSETTO:-0600
TZNAME:CST
DTSTART:19701101T020000
RRULE:FREQ=YEARLY;BYMONTH=11;BYDAY=1SU
END:STANDARD
END:VTIMEZONE
BEGIN:VEVENT
UID:3181080:Event:158186
DTSTAMP:20260424T100801Z
SUMMARY:Bo-Don Gun & Knife Show at Port Arthur Tx.
DESCRIPTION:Come one, come all! Buy, Sell or trade. Open to the public
 .\n\nFor more information visit https://iknifecollector.com/events/bod
 on-gun-knife-show-at-port-2
DTSTART;TZID=America/Chicago:20101122T180000
DTEND;TZID=America/Chicago:20101122T190000
CATEGORIES:gun, and, knife, show
LOCATION:Port Arthur Civic Center
WEBSITE:http://www.cityofportaransas.org/Civic_Center.cfm
URL:http://www.cityofportaransas.org/Civic_Center.cfm
CONTACT:
ORGANIZER:Bruce Piehl/Doc's Knife Works
ATTACH;FMTTYPE="image/jpeg":
ATTENDEE;ROLE=REQ-PARTICIPANT;PARTSTAT=ACCEPTED;RSVP=TRUE;CN="Bruce Pi
 ehl":https://iknifecollector.com/profile/brucepiehl
END:VEVENT
END:VCALENDAR
