BEGIN:VCALENDAR
PRODID:NingEventWidget-v1
VERSION:2.0
METHOD:PUBLISH
BEGIN:VTIMEZONE
TZID:America/Chicago
X-LIC-LOCATION:America/Chicago
BEGIN:DAYLIGHT
TZOFFSETFROM:-0600
TZOFFSETTO:-0500
TZNAME:CDT
DTSTART:19700308T020000
RRULE:FREQ=YEARLY;BYMONTH=3;BYDAY=2SU
END:DAYLIGHT
BEGIN:STANDARD
TZOFFSETFROM:-0500
TZOFFSETTO:-0600
TZNAME:CST
DTSTART:19701101T020000
RRULE:FREQ=YEARLY;BYMONTH=11;BYDAY=1SU
END:STANDARD
END:VTIMEZONE
BEGIN:VEVENT
UID:3181080:Event:158433
DTSTAMP:20260424T111909Z
SUMMARY:Bo-Don Gun & Knife Show at Port Arthur Tx.
DESCRIPTION:Public welcome, Buy, Sell, or Trade!\n\nFor more informati
 on visit https://iknifecollector.com/events/bodon-gun-knife-show-at-po
 rt-3
DTSTART;TZID=America/Chicago:20101127T090000
DTEND;TZID=America/Chicago:20101128T170000
CATEGORIES:gun, and, knife, show
LOCATION:Port Arthur Civic Center
WEBSITE:http://www.portarthur.net/
URL:http://www.portarthur.net/
CONTACT:
ORGANIZER:Bruce Piehl/Doc's Knife Works
ATTACH;FMTTYPE="image/jpeg":
ATTENDEE;ROLE=REQ-PARTICIPANT;PARTSTAT=ACCEPTED;RSVP=TRUE;CN="Bruce Pi
 ehl":https://iknifecollector.com/profile/brucepiehl
END:VEVENT
END:VCALENDAR
