BEGIN:VCALENDAR
PRODID:NingEventWidget-v1
VERSION:2.0
METHOD:PUBLISH
BEGIN:VTIMEZONE
TZID:America/Chicago
X-LIC-LOCATION:America/Chicago
BEGIN:DAYLIGHT
TZOFFSETFROM:-0600
TZOFFSETTO:-0500
TZNAME:CDT
DTSTART:19700308T020000
RRULE:FREQ=YEARLY;BYMONTH=3;BYDAY=2SU
END:DAYLIGHT
BEGIN:STANDARD
TZOFFSETFROM:-0500
TZOFFSETTO:-0600
TZNAME:CST
DTSTART:19701101T020000
RRULE:FREQ=YEARLY;BYMONTH=11;BYDAY=1SU
END:STANDARD
END:VTIMEZONE
BEGIN:VEVENT
UID:3181080:Event:412253
DTSTAMP:20260424T173857Z
SUMMARY:Boise Knife Show
DESCRIPTION:EXCITING NEWS!\n \n- Chuck Buck of Buck Knives will be at
  our Boise show to personally autograph his name on all new and old Bu
 ck Knives!  \n \n- Chris Reeve Knives will be offering to sharpen y
 our favorite knife at the show, as well as showing-off all of their be
 autiful award winning knives.\n \n- Knife makers will be putting thei
 r knives to the TEST in our first ever KNIFE PERFORMANCE CHALLENGE fo
 r everyone to witness.  See first hand just how tough these knives re
 ally are.\n\nFor more information visit https://iknifecollector.com/ev
 ents/boise-knife-show
DTSTART;TZID=America/Chicago:20111028T000000
DTEND;TZID=America/Chicago:20111030T235900
CATEGORIES:rocky, mountain, knife, show
LOCATION:EXPO Idaho Center
WEBSITE:http://www.rockymountainknifeshow.com/
URL:http://www.rockymountainknifeshow.com/
CONTACT:208 447-7000
ORGANIZER:
ATTACH;FMTTYPE="image/jpeg":
END:VEVENT
END:VCALENDAR
