BEGIN:VCALENDAR
PRODID:NingEventWidget-v1
VERSION:2.0
METHOD:PUBLISH
BEGIN:VTIMEZONE
TZID:America/Chicago
X-LIC-LOCATION:America/Chicago
BEGIN:DAYLIGHT
TZOFFSETFROM:-0600
TZOFFSETTO:-0500
TZNAME:CDT
DTSTART:19700308T020000
RRULE:FREQ=YEARLY;BYMONTH=3;BYDAY=2SU
END:DAYLIGHT
BEGIN:STANDARD
TZOFFSETFROM:-0500
TZOFFSETTO:-0600
TZNAME:CST
DTSTART:19701101T020000
RRULE:FREQ=YEARLY;BYMONTH=11;BYDAY=1SU
END:STANDARD
END:VTIMEZONE
BEGIN:VEVENT
UID:3181080:Event:297340
DTSTAMP:20260422T082924Z
SUMMARY:SC Arms Collectors Association Gun and Knife Show
DESCRIPTION:\nSaturday: 9:00AM - 5:00PM.   &   Sunday: 10:00AM - 4
 :00PM.  \nAdmission:  Adults: $7.00   Children (age 6-16): $1.00N
 o admittance 30 minutes prior to closing time\nShow Director:Spencer B
 arker\n\nSC Arms Coll. Assoc.\nPO Box 4308, Irmo, SC 29063.\nPH: 803-4
 63-9377\n\nFor more information visit https://iknifecollector.com/even
 ts/c-arms-collectors-association
DTSTART;TZID=America/Chicago:20120303T090000
DTEND;TZID=America/Chicago:20120304T160000
CATEGORIES:gun, "&", knife, show
LOCATION:Jamil Shrine Center
WEBSITE:http://fubat45.home.mindspring.com/scaca/jammap.htm
URL:http://fubat45.home.mindspring.com/scaca/jammap.htm
CONTACT:803-463-9377
ORGANIZER:South Carolina Arms Collectors Association
ATTACH;FMTTYPE="image/jpeg":http://storage.ning.com/topology/rest/1.0/
 file/get/2831287289?profile=original
ATTENDEE;ROLE=REQ-PARTICIPANT;PARTSTAT=ACCEPTED;RSVP=TRUE;CN="J.J. Smi
 th III":https://iknifecollector.com/profile/JohnJSmithIII
END:VEVENT
END:VCALENDAR
