BEGIN:VCALENDAR
PRODID:NingEventWidget-v1
VERSION:2.0
METHOD:PUBLISH
BEGIN:VTIMEZONE
TZID:America/Chicago
X-LIC-LOCATION:America/Chicago
BEGIN:DAYLIGHT
TZOFFSETFROM:-0600
TZOFFSETTO:-0500
TZNAME:CDT
DTSTART:19700308T020000
RRULE:FREQ=YEARLY;BYMONTH=3;BYDAY=2SU
END:DAYLIGHT
BEGIN:STANDARD
TZOFFSETFROM:-0500
TZOFFSETTO:-0600
TZNAME:CST
DTSTART:19701101T020000
RRULE:FREQ=YEARLY;BYMONTH=11;BYDAY=1SU
END:STANDARD
END:VTIMEZONE
BEGIN:VEVENT
UID:3181080:Event:738382
DTSTAMP:20260423T194131Z
SUMMARY:Cadillac Gun and Knife Show
DESCRIPTION:Show Times:-Saturday: January 5, 20139:00am – 5:00pm-Sun
 day: January 6, 20139:00am – 3:00pm\n\nFor more information visit ht
 tps://iknifecollector.com/events/cadillac-gun-and-knife-show
DTSTART;TZID=America/Chicago:20130105T000000
DTEND;TZID=America/Chicago:20130106T235900
CATEGORIES:gun, and, knife, show
LOCATION:Wexford Civic Center
WEBSITE:http://www.gunshowmonster.com/gunshows/cadillac-gun-and-knife-
 2013-01-05-Cadillac-MI.html
URL:http://www.gunshowmonster.com/gunshows/cadillac-gun-and-knife-2013
 -01-05-Cadillac-MI.html
CONTACT:
ORGANIZER;CN="Jan Carter":https://iknifecollector.com/profile/JanCarte
 r
ATTACH;FMTTYPE="image/jpeg":
ATTENDEE;ROLE=REQ-PARTICIPANT;PARTSTAT=ACCEPTED;RSVP=TRUE;CN="Jan Cart
 er":https://iknifecollector.com/profile/JanCarter
END:VEVENT
END:VCALENDAR
