BEGIN:VCALENDAR
PRODID:NingEventWidget-v1
VERSION:2.0
METHOD:PUBLISH
BEGIN:VTIMEZONE
TZID:America/Chicago
X-LIC-LOCATION:America/Chicago
BEGIN:DAYLIGHT
TZOFFSETFROM:-0600
TZOFFSETTO:-0500
TZNAME:CDT
DTSTART:19700308T020000
RRULE:FREQ=YEARLY;BYMONTH=3;BYDAY=2SU
END:DAYLIGHT
BEGIN:STANDARD
TZOFFSETFROM:-0500
TZOFFSETTO:-0600
TZNAME:CST
DTSTART:19701101T020000
RRULE:FREQ=YEARLY;BYMONTH=11;BYDAY=1SU
END:STANDARD
END:VTIMEZONE
BEGIN:VEVENT
UID:3181080:Event:1548312
DTSTAMP:20260424T060238Z
SUMMARY:CCKS FRIDAY NIGHT BLADE AFFAIR
DESCRIPTION:\r\nOCTOBER 22 @ 7:00 PM - 9:00 PM EDT\r\n $200\r\n\r\
 n\r\nExclusive event prior to the California Custom Knife Show\r\n\r\n
 \n\nFor more information visit https://iknifecollector.com/events/cali
 fornia-custom-knife-show-6
DTSTART;TZID=America/Chicago:20211022T160000
DTEND;TZID=America/Chicago:20211022T170000
CATEGORIES:custom, knife, show
LOCATION:Embassy Suites - Anaheim South
WEBSITE:https://r1promotions.com/
URL:https://r1promotions.com/
CONTACT:(888) 473-2661
ORGANIZER:CCKS
ATTACH;FMTTYPE="image/jpeg":http://storage.ning.com/topology/rest/1.0/
 file/get/2831594144?profile=original
ATTENDEE;ROLE=REQ-PARTICIPANT;PARTSTAT=ACCEPTED;RSVP=TRUE;CN="Sergi C.
  Heideman":https://iknifecollector.com/profile/SergiCHeideman
END:VEVENT
END:VCALENDAR
