BEGIN:VCALENDAR
PRODID:NingEventWidget-v1
VERSION:2.0
METHOD:PUBLISH
BEGIN:VTIMEZONE
TZID:America/Chicago
X-LIC-LOCATION:America/Chicago
BEGIN:DAYLIGHT
TZOFFSETFROM:-0600
TZOFFSETTO:-0500
TZNAME:CDT
DTSTART:19700308T020000
RRULE:FREQ=YEARLY;BYMONTH=3;BYDAY=2SU
END:DAYLIGHT
BEGIN:STANDARD
TZOFFSETFROM:-0500
TZOFFSETTO:-0600
TZNAME:CST
DTSTART:19701101T020000
RRULE:FREQ=YEARLY;BYMONTH=11;BYDAY=1SU
END:STANDARD
END:VTIMEZONE
BEGIN:VEVENT
UID:3181080:Event:1342426
DTSTAMP:20260423T183950Z
SUMMARY:Canadian Knifemakers Guild 21st Annual Show
DESCRIPTION:The following Exhibitors have committed to attend the 21st
  Annual Knifemakers Guild Show, the list will be updated as reservatio
 ns are received:\nKnifemakers:\nCoultrup, Russ\nCulpepper Mother of Pe
 arl\nDaley, Mark\nDeringer, Christoph\nDouglas, Rob\nDuclos, Jason\nEm
 mons, James\nFogarizzu, Tore\nHacher & Krain\nHara, Koji\nLemelin, Ste
 phanie\nLinklater, Steve\nLoerchner, Elizabeth\nLoerchner, Wolfgang\nM
 arfione Custom Knives\nMossington, Mike\nMura, Denis\nNease, William\n
 Olson, Rod\nRuth, Michael\nTighe, Brian\nTri City Knife Works – Bill
  Hall\nVandercolff, Steve\nWang, Hongbo\n\nFor more information visit 
 https://iknifecollector.com/events/canadian-knifemakers-guild-21st-ann
 ual-show
DTSTART;TZID=America/Chicago:20150822T000000
DTEND;TZID=America/Chicago:20150823T235900
CATEGORIES:canadian, knifemakers, guild, 21st, annual, show
LOCATION:SHERATON CENTRE TORONTO HOTEL
WEBSITE:http://canadianknifemakersguild.com/show-info/
URL:http://canadianknifemakersguild.com/show-info/
CONTACT:
ORGANIZER;CN="Jan Carter":https://iknifecollector.com/profile/JanCarte
 r
ATTACH;FMTTYPE="image/jpeg":
END:VEVENT
END:VCALENDAR
