BEGIN:VCALENDAR
PRODID:NingEventWidget-v1
VERSION:2.0
METHOD:PUBLISH
BEGIN:VTIMEZONE
TZID:America/Chicago
X-LIC-LOCATION:America/Chicago
BEGIN:DAYLIGHT
TZOFFSETFROM:-0600
TZOFFSETTO:-0500
TZNAME:CDT
DTSTART:19700308T020000
RRULE:FREQ=YEARLY;BYMONTH=3;BYDAY=2SU
END:DAYLIGHT
BEGIN:STANDARD
TZOFFSETFROM:-0500
TZOFFSETTO:-0600
TZNAME:CST
DTSTART:19701101T020000
RRULE:FREQ=YEARLY;BYMONTH=11;BYDAY=1SU
END:STANDARD
END:VTIMEZONE
BEGIN:VEVENT
UID:3181080:Event:1041783
DTSTAMP:20260420T150436Z
SUMMARY:Canadian Knifemakers Guild Show
DESCRIPTION:Knifemakers:\nBrian Tighe â€“ Canada\nJurgen Steinau â€“ G
 ermany\nTore Fogarizzu â€“ Italy\nPaolo Brignone â€“ Italy\nSalvatore 
 Puddu â€“ Italy\nAntonio Fogarizzu â€“ Italy\nCharlie Bennica â€“ Fran
 ce\nJohn W. Smith â€“ USA\nDes Horn â€“ South Africa\nWolfgang Loerchn
 er â€“ Canada\nRod Olson â€“ Canada\nEmmanuel Esposito â€“ Italy\nEliz
 abeth Loerchner â€“ Italy\nWally Hayes â€“ Canada\nStephanie Lemelin â
 €“ Canada\nOwen Wood â€“ USA\nGil Hibben â€“ USA\nSuchat Custom Knives
  â€“ USA\nSteven Rapp â€“ USA\nEugene Shadley â€“ USA\nKirby Lambert â
 €“ Canada\nJose de Braga â€“ Canada\nKen Steigerwalt â€“ USA\nMatthew 
 Lerch â€“ USA\nNathan Knowles â€“ Canada\nLes Couteliers du Valblanc â
 €“ Canada\nDavid Mc Donald â€“ Canada\nKoji Hara- Japan\nMurray St.Amo
 ur â€“ Canada\nShaun and Sharla Hansen â€“ USA\nJames Emmons â€“ Canad
 a\nSteve Linklater â€“ Canada\nSteve Vanderkolff â€“ Canada\nGuillaume
  Cote â€“ Canada\nMark Daley â€“ Canada\n\nFor more information visit 
 https://iknifecollector.com/events/canadian-knifemakers-guild-show
DTSTART;TZID=America/Chicago:20140816T000000
DTEND;TZID=America/Chicago:20140817T235900
CATEGORIES:knife, show
LOCATION:Sheraton Centre Toronto Hotel
WEBSITE:http://canadianknifemakersguild.com/show-info/
URL:http://canadianknifemakersguild.com/show-info/
CONTACT:
ORGANIZER;CN="Jan Carter":https://iknifecollector.com/profile/JanCarte
 r
ATTACH;FMTTYPE="image/jpeg":
ATTENDEE;ROLE=REQ-PARTICIPANT;PARTSTAT=ACCEPTED;RSVP=TRUE;CN="Jan Cart
 er":https://iknifecollector.com/profile/JanCarter
END:VEVENT
END:VCALENDAR
