BEGIN:VCALENDAR
PRODID:NingEventWidget-v1
VERSION:2.0
METHOD:PUBLISH
BEGIN:VTIMEZONE
TZID:America/Chicago
X-LIC-LOCATION:America/Chicago
BEGIN:DAYLIGHT
TZOFFSETFROM:-0600
TZOFFSETTO:-0500
TZNAME:CDT
DTSTART:19700308T020000
RRULE:FREQ=YEARLY;BYMONTH=3;BYDAY=2SU
END:DAYLIGHT
BEGIN:STANDARD
TZOFFSETFROM:-0500
TZOFFSETTO:-0600
TZNAME:CST
DTSTART:19701101T020000
RRULE:FREQ=YEARLY;BYMONTH=11;BYDAY=1SU
END:STANDARD
END:VTIMEZONE
BEGIN:VEVENT
UID:3181080:Event:565509
DTSTAMP:20260422T020527Z
SUMMARY:Cape Fear Wildlife Expo
DESCRIPTION:Look for Hendrix Knives at these knife shows.\nAs a family
  event, the expo will feature wildlife art and decoy displays; book si
 gnings by regional outdoor writers; hunting and fishing products; boat
 s and accessories; truck and ATV displays; fly-fishing and decoy-carvi
 ng demonstrations; conservation exhibits; outdoor sports guides and ou
 tfitters.  Click here for Photos from the Expo!\n\nFor more informa
 tion visit https://iknifecollector.com/events/cape-fear-wildlife-expo
DTSTART;TZID=America/Chicago:20120316T000000
DTEND;TZID=America/Chicago:20120318T235900
CATEGORIES:outdoor, expo
LOCATION:Wilmington Convention Center
WEBSITE:http://hendrixknives.com/
URL:http://hendrixknives.com/
CONTACT:
ORGANIZER:
ATTACH;FMTTYPE="image/jpeg":
ATTENDEE;ROLE=REQ-PARTICIPANT;PARTSTAT=ACCEPTED;RSVP=TRUE;CN="Jan Cart
 er":https://iknifecollector.com/profile/JanCarter
END:VEVENT
END:VCALENDAR
