BEGIN:VCALENDAR
PRODID:NingEventWidget-v1
VERSION:2.0
METHOD:PUBLISH
BEGIN:VTIMEZONE
TZID:America/Chicago
X-LIC-LOCATION:America/Chicago
BEGIN:DAYLIGHT
TZOFFSETFROM:-0600
TZOFFSETTO:-0500
TZNAME:CDT
DTSTART:19700308T020000
RRULE:FREQ=YEARLY;BYMONTH=3;BYDAY=2SU
END:DAYLIGHT
BEGIN:STANDARD
TZOFFSETFROM:-0500
TZOFFSETTO:-0600
TZNAME:CST
DTSTART:19701101T020000
RRULE:FREQ=YEARLY;BYMONTH=11;BYDAY=1SU
END:STANDARD
END:VTIMEZONE
BEGIN:VEVENT
UID:3181080:Event:1595615
DTSTAMP:20260421T022412Z
SUMMARY:CASE 2019 Keep Your Hands Sharp Tour**IN
DESCRIPTION:EVENT KNIFE: Slimline Trapper\n\nFor more information visi
 t https://iknifecollector.com/events/case-2019-keep-your-hands-sharp-t
 our-in
DTSTART;TZID=America/Chicago:20191012T090000
DTEND;TZID=America/Chicago:20191012T120000
CATEGORIES:case, event
LOCATION:EVENT KNIFE: Slimline Trapper
WEBSITE:https://caseknives.com/pages/case-knives-events
URL:https://caseknives.com/pages/case-knives-events
CONTACT:
ORGANIZER;CN="Jan Carter":https://iknifecollector.com/profile/JanCarte
 r
ATTACH;FMTTYPE="image/jpeg":https://storage.ning.com/topology/rest/1.0
 /file/get/2648155088?profile=original
ATTENDEE;ROLE=REQ-PARTICIPANT;PARTSTAT=ACCEPTED;RSVP=TRUE;CN="Andy Lar
 rison":https://iknifecollector.com/profile/AndyLarrison
END:VEVENT
END:VCALENDAR
