BEGIN:VCALENDAR
PRODID:NingEventWidget-v1
VERSION:2.0
METHOD:PUBLISH
BEGIN:VTIMEZONE
TZID:America/Chicago
X-LIC-LOCATION:America/Chicago
BEGIN:DAYLIGHT
TZOFFSETFROM:-0600
TZOFFSETTO:-0500
TZNAME:CDT
DTSTART:19700308T020000
RRULE:FREQ=YEARLY;BYMONTH=3;BYDAY=2SU
END:DAYLIGHT
BEGIN:STANDARD
TZOFFSETFROM:-0500
TZOFFSETTO:-0600
TZNAME:CST
DTSTART:19701101T020000
RRULE:FREQ=YEARLY;BYMONTH=11;BYDAY=1SU
END:STANDARD
END:VTIMEZONE
BEGIN:VEVENT
UID:3181080:Event:1097791
DTSTAMP:20260420T122410Z
SUMMARY:Case a 125th Anniversary Celebration!
DESCRIPTION:On Saturday, August 16th , W.R. Case & Sons Cutlery Comp
 any will host an event at the Museum of Appalachia in Norris, TN . I
 f the name sounds familiar, that is because this will be our third gat
 hering at this museum, which is often referred to as a living mountain
  village. Hundreds of Club members joined us in the past and have sinc
 e then asked (even begged) us to “bring the celebration closer to th
 eir homes.” Well folks, we listened, and are heading out to the muse
 um to treat the dedicated members of the Case Collectors Club to anoth
 er unforgettable experience – Case style! \n\nFor more information 
 visit https://iknifecollector.com/events/case-a-125th-anniversary-cele
 bration
DTSTART;TZID=America/Chicago:20140816T000000
DTEND;TZID=America/Chicago:20140816T235900
CATEGORIES:case, annual, event
LOCATION:the Museum of Appalachia in Norris, TN
WEBSITE:
URL:
CONTACT:
ORGANIZER;CN="Jan Carter":https://iknifecollector.com/profile/JanCarte
 r
ATTACH;FMTTYPE="image/jpeg":http://storage.ning.com/topology/rest/1.0/
 file/get/2831439982?profile=original
ATTENDEE;ROLE=REQ-PARTICIPANT;PARTSTAT=ACCEPTED;RSVP=TRUE;CN="Bryon Ba
 nks":https://iknifecollector.com/profile/BryonBanks
ATTENDEE;ROLE=REQ-PARTICIPANT;PARTSTAT=ACCEPTED;RSVP=TRUE;CN="Rex P De
 rin":https://iknifecollector.com/profile/RexPDerin
ATTENDEE;ROLE=REQ-PARTICIPANT;PARTSTAT=ACCEPTED;RSVP=TRUE;CN="Terry Ra
 y":https://iknifecollector.com/profile/TerryRay
ATTENDEE;ROLE=REQ-PARTICIPANT;PARTSTAT=ACCEPTED;RSVP=TRUE;CN="Charles 
 Reed":https://iknifecollector.com/profile/CharlesReed
ATTENDEE;ROLE=REQ-PARTICIPANT;PARTSTAT=ACCEPTED;RSVP=TRUE;CN="David Se
 lph":https://iknifecollector.com/profile/DavidSelph
ATTENDEE;ROLE=REQ-PARTICIPANT;PARTSTAT=ACCEPTED;RSVP=TRUE;CN="Jan Cart
 er":https://iknifecollector.com/profile/JanCarter
END:VEVENT
END:VCALENDAR
