BEGIN:VCALENDAR
PRODID:NingEventWidget-v1
VERSION:2.0
METHOD:PUBLISH
BEGIN:VTIMEZONE
TZID:America/Chicago
X-LIC-LOCATION:America/Chicago
BEGIN:DAYLIGHT
TZOFFSETFROM:-0600
TZOFFSETTO:-0500
TZNAME:CDT
DTSTART:19700308T020000
RRULE:FREQ=YEARLY;BYMONTH=3;BYDAY=2SU
END:DAYLIGHT
BEGIN:STANDARD
TZOFFSETFROM:-0500
TZOFFSETTO:-0600
TZNAME:CST
DTSTART:19701101T020000
RRULE:FREQ=YEARLY;BYMONTH=11;BYDAY=1SU
END:STANDARD
END:VTIMEZONE
BEGIN:VEVENT
UID:3181080:Event:1403341
DTSTAMP:20260424T055008Z
SUMMARY:Case Artisans Tour
DESCRIPTION:Case Artisans Tour\n\nFor more information visit https://i
 knifecollector.com/events/case-artisans-tour-10
DTSTART;TZID=America/Chicago:20161112T000000
DTEND;TZID=America/Chicago:20161112T235900
CATEGORIES:case, artisans, tour
LOCATION:Harvey's Hardware
WEBSITE:http://www.wrcase.com/happenings/events/
URL:http://www.wrcase.com/happenings/events/
CONTACT:888-355-9064
ORGANIZER;CN="Jan Carter":https://iknifecollector.com/profile/JanCarte
 r
ATTACH;FMTTYPE="image/jpeg":http://storage.ning.com/topology/rest/1.0/
 file/get/2648155088?profile=original
END:VEVENT
END:VCALENDAR
