BEGIN:VCALENDAR
PRODID:NingEventWidget-v1
VERSION:2.0
METHOD:PUBLISH
BEGIN:VTIMEZONE
TZID:America/Chicago
X-LIC-LOCATION:America/Chicago
BEGIN:DAYLIGHT
TZOFFSETFROM:-0600
TZOFFSETTO:-0500
TZNAME:CDT
DTSTART:19700308T020000
RRULE:FREQ=YEARLY;BYMONTH=3;BYDAY=2SU
END:DAYLIGHT
BEGIN:STANDARD
TZOFFSETFROM:-0500
TZOFFSETTO:-0600
TZNAME:CST
DTSTART:19701101T020000
RRULE:FREQ=YEARLY;BYMONTH=11;BYDAY=1SU
END:STANDARD
END:VTIMEZONE
BEGIN:VEVENT
UID:3181080:Event:1684405
DTSTAMP:20260424T171206Z
SUMMARY:Case Better Together Event
DESCRIPTION:Case \"Better Together\" Tour stop at Smoky Mountain Knife
  Works.\n\nMy son and I plan to attend\n\nFor more information visit h
 ttps://iknifecollector.com/events/case-better-together-event
DTSTART;TZID=America/Chicago:20210828T090000
DTEND;TZID=America/Chicago:20210828T120000
CATEGORIES:case, consumer, event
LOCATION:Smoky Mountain Knifeworks
WEBSITE:
URL:
CONTACT:
ORGANIZER:Case/SMKW
ATTACH;FMTTYPE="image/jpeg":
ATTENDEE;ROLE=REQ-PARTICIPANT;PARTSTAT=ACCEPTED;RSVP=TRUE;CN="Andy Lar
 rison":https://iknifecollector.com/profile/AndyLarrison
END:VEVENT
END:VCALENDAR
