BEGIN:VCALENDAR
PRODID:NingEventWidget-v1
VERSION:2.0
METHOD:PUBLISH
BEGIN:VTIMEZONE
TZID:America/Chicago
X-LIC-LOCATION:America/Chicago
BEGIN:DAYLIGHT
TZOFFSETFROM:-0600
TZOFFSETTO:-0500
TZNAME:CDT
DTSTART:19700308T020000
RRULE:FREQ=YEARLY;BYMONTH=3;BYDAY=2SU
END:DAYLIGHT
BEGIN:STANDARD
TZOFFSETFROM:-0500
TZOFFSETTO:-0600
TZNAME:CST
DTSTART:19701101T020000
RRULE:FREQ=YEARLY;BYMONTH=11;BYDAY=1SU
END:STANDARD
END:VTIMEZONE
BEGIN:VEVENT
UID:3181080:Event:1403002
DTSTAMP:20260424T111404Z
SUMMARY:Case Collectors Reunion
DESCRIPTION:Case Collectors Reunion\n\nFor more information visit http
 s://iknifecollector.com/events/case-collectors-reunion
DTSTART;TZID=America/Chicago:20160723T000000
DTEND;TZID=America/Chicago:20160723T235900
CATEGORIES:case, collectors, reunion
LOCATION:Zippo/Case Museum
WEBSITE:http://www.wrcase.com/happenings/events/
URL:http://www.wrcase.com/happenings/events/
CONTACT:800-523-6350
ORGANIZER;CN="Jan Carter":https://iknifecollector.com/profile/JanCarte
 r
ATTACH;FMTTYPE="image/jpeg":http://storage.ning.com/topology/rest/1.0/
 file/get/2648155088?profile=original
ATTENDEE;ROLE=REQ-PARTICIPANT;PARTSTAT=ACCEPTED;RSVP=TRUE;CN="Max McGr
 uder":https://iknifecollector.com/profile/MaxMcGruder
END:VEVENT
END:VCALENDAR
