BEGIN:VCALENDAR
PRODID:NingEventWidget-v1
VERSION:2.0
METHOD:PUBLISH
BEGIN:VTIMEZONE
TZID:America/Chicago
X-LIC-LOCATION:America/Chicago
BEGIN:DAYLIGHT
TZOFFSETFROM:-0600
TZOFFSETTO:-0500
TZNAME:CDT
DTSTART:19700308T020000
RRULE:FREQ=YEARLY;BYMONTH=3;BYDAY=2SU
END:DAYLIGHT
BEGIN:STANDARD
TZOFFSETFROM:-0500
TZOFFSETTO:-0600
TZNAME:CST
DTSTART:19701101T020000
RRULE:FREQ=YEARLY;BYMONTH=11;BYDAY=1SU
END:STANDARD
END:VTIMEZONE
BEGIN:VEVENT
UID:3181080:Event:1534440
DTSTAMP:20260422T221337Z
SUMMARY:CASE EVENT Amerson Farms Knife Barn **KY
DESCRIPTION:Doctor's Knife\n\nFor more information visit https://iknif
 ecollector.com/events/case-event-amerson-farms-knife-barn-ky
DTSTART;TZID=America/Chicago:20180714T090000
DTEND;TZID=America/Chicago:20180714T210000
CATEGORIES:case, event
LOCATION:Amerson Farms Knife Barn **KY
WEBSITE:https://amersonfarms.com
URL:https://amersonfarms.com
CONTACT:
ORGANIZER;CN="Jan Carter":https://iknifecollector.com/profile/JanCarte
 r
ATTACH;FMTTYPE="image/jpeg":http://storage.ning.com/topology/rest/1.0/
 file/get/2648155088?profile=original
ATTENDEE;ROLE=REQ-PARTICIPANT;PARTSTAT=TENTATIVE;RSVP=TRUE;CN="Andy La
 rrison":https://iknifecollector.com/profile/AndyLarrison
END:VEVENT
END:VCALENDAR
