BEGIN:VCALENDAR
PRODID:NingEventWidget-v1
VERSION:2.0
METHOD:PUBLISH
BEGIN:VTIMEZONE
TZID:America/Chicago
X-LIC-LOCATION:America/Chicago
BEGIN:DAYLIGHT
TZOFFSETFROM:-0600
TZOFFSETTO:-0500
TZNAME:CDT
DTSTART:19700308T020000
RRULE:FREQ=YEARLY;BYMONTH=3;BYDAY=2SU
END:DAYLIGHT
BEGIN:STANDARD
TZOFFSETFROM:-0500
TZOFFSETTO:-0600
TZNAME:CST
DTSTART:19701101T020000
RRULE:FREQ=YEARLY;BYMONTH=11;BYDAY=1SU
END:STANDARD
END:VTIMEZONE
BEGIN:VEVENT
UID:3181080:Event:1534312
DTSTAMP:20260422T225636Z
SUMMARY:CASE EVENT Buffalo Shoals Hardware ** NC
DESCRIPTION:Medium Texas Toothpick\n\nFor more information visit https
 ://iknifecollector.com/events/case-event-buffalo-shoals-hardware-nc
DTSTART;TZID=America/Chicago:20180915T090000
DTEND;TZID=America/Chicago:20180915T120000
CATEGORIES:case, event
LOCATION:Buffalo Shoals Hardware
WEBSITE:https://buffaloshoals.doitbest.com
URL:https://buffaloshoals.doitbest.com
CONTACT:877-464-0817
ORGANIZER;CN="Jan Carter":https://iknifecollector.com/profile/JanCarte
 r
ATTACH;FMTTYPE="image/jpeg":http://storage.ning.com/topology/rest/1.0/
 file/get/2648155088?profile=original
ATTENDEE;ROLE=REQ-PARTICIPANT;PARTSTAT=TENTATIVE;RSVP=TRUE;CN="J.J. Sm
 ith III":https://iknifecollector.com/profile/JohnJSmithIII
ATTENDEE;ROLE=REQ-PARTICIPANT;PARTSTAT=TENTATIVE;RSVP=TRUE;CN="Jan Car
 ter":https://iknifecollector.com/profile/JanCarter
END:VEVENT
END:VCALENDAR
