BEGIN:VCALENDAR
PRODID:NingEventWidget-v1
VERSION:2.0
METHOD:PUBLISH
BEGIN:VTIMEZONE
TZID:America/Chicago
X-LIC-LOCATION:America/Chicago
BEGIN:DAYLIGHT
TZOFFSETFROM:-0600
TZOFFSETTO:-0500
TZNAME:CDT
DTSTART:19700308T020000
RRULE:FREQ=YEARLY;BYMONTH=3;BYDAY=2SU
END:DAYLIGHT
BEGIN:STANDARD
TZOFFSETFROM:-0500
TZOFFSETTO:-0600
TZNAME:CST
DTSTART:19701101T020000
RRULE:FREQ=YEARLY;BYMONTH=11;BYDAY=1SU
END:STANDARD
END:VTIMEZONE
BEGIN:VEVENT
UID:3181080:Event:1534527
DTSTAMP:20260422T190044Z
SUMMARY:CASE EVENT Coffman Hardware ** MI
DESCRIPTION:Seahorse Whittler\n\nFor more information visit https://ik
 nifecollector.com/events/case-event-coffman-hardware-mi
DTSTART;TZID=America/Chicago:20180818T090000
DTEND;TZID=America/Chicago:20180818T120000
CATEGORIES:case, event
LOCATION:COFFMAN HARDWARE
WEBSITE:https://coffman-hardward.myshopify.com
URL:https://coffman-hardward.myshopify.com
CONTACT:Phone: 231-436-5650
ORGANIZER;CN="Jan Carter":https://iknifecollector.com/profile/JanCarte
 r
ATTACH;FMTTYPE="image/jpeg":http://storage.ning.com/topology/rest/1.0/
 file/get/2648155088?profile=original
ATTENDEE;ROLE=REQ-PARTICIPANT;PARTSTAT=ACCEPTED;RSVP=TRUE;CN="Andy Lar
 rison":https://iknifecollector.com/profile/AndyLarrison
END:VEVENT
END:VCALENDAR
