BEGIN:VCALENDAR
PRODID:NingEventWidget-v1
VERSION:2.0
METHOD:PUBLISH
BEGIN:VTIMEZONE
TZID:America/Chicago
X-LIC-LOCATION:America/Chicago
BEGIN:DAYLIGHT
TZOFFSETFROM:-0600
TZOFFSETTO:-0500
TZNAME:CDT
DTSTART:19700308T020000
RRULE:FREQ=YEARLY;BYMONTH=3;BYDAY=2SU
END:DAYLIGHT
BEGIN:STANDARD
TZOFFSETFROM:-0500
TZOFFSETTO:-0600
TZNAME:CST
DTSTART:19701101T020000
RRULE:FREQ=YEARLY;BYMONTH=11;BYDAY=1SU
END:STANDARD
END:VTIMEZONE
BEGIN:VEVENT
UID:3181080:Event:1534308
DTSTAMP:20260422T210742Z
SUMMARY:CASE EVENT SHC - Celebration in the Ozarks ** MO
DESCRIPTION:\r\n\r\n\r\n*Contact Store for Knife Offerings\r\n\r\n\r\n
 \n\nFor more information visit https://iknifecollector.com/events/case
 -event-shc-celebration-in-the-ozarks-mo
DTSTART;TZID=America/Chicago:20180908T090000
DTEND;TZID=America/Chicago:20180908T160000
CATEGORIES:case, event
LOCATION:Shepherd Hills Factory Outlets
WEBSITE:https://www.casexx.com/Others/Lebanon.asp
URL:https://www.casexx.com/Others/Lebanon.asp
CONTACT:1-417-532-7000
ORGANIZER;CN="Jan Carter":https://iknifecollector.com/profile/JanCarte
 r
ATTACH;FMTTYPE="image/jpeg":http://storage.ning.com/topology/rest/1.0/
 file/get/2648155088?profile=original
ATTENDEE;ROLE=REQ-PARTICIPANT;PARTSTAT=ACCEPTED;RSVP=TRUE;CN="Steve we
 lls":https://iknifecollector.com/profile/Stevewells
END:VEVENT
END:VCALENDAR
