BEGIN:VCALENDAR
PRODID:NingEventWidget-v1
VERSION:2.0
METHOD:PUBLISH
BEGIN:VTIMEZONE
TZID:America/Chicago
X-LIC-LOCATION:America/Chicago
BEGIN:DAYLIGHT
TZOFFSETFROM:-0600
TZOFFSETTO:-0500
TZNAME:CDT
DTSTART:19700308T020000
RRULE:FREQ=YEARLY;BYMONTH=3;BYDAY=2SU
END:DAYLIGHT
BEGIN:STANDARD
TZOFFSETFROM:-0500
TZOFFSETTO:-0600
TZNAME:CST
DTSTART:19701101T020000
RRULE:FREQ=YEARLY;BYMONTH=11;BYDAY=1SU
END:STANDARD
END:VTIMEZONE
BEGIN:VEVENT
UID:3181080:Event:1534445
DTSTAMP:20260420T025910Z
SUMMARY:CASE EVENT Shepherd Hills Cutlery **MO
DESCRIPTION:Cheetah®\n\nFor more information visit https://iknifecoll
 ector.com/events/case-event-shepherd-hills-cutlery-mo
DTSTART;TZID=America/Chicago:20180322T180000
DTEND;TZID=America/Chicago:20180322T190000
CATEGORIES:case, event
LOCATION:SHC **MO
WEBSITE:https://www.casexx.com/Others/Branson.asp
URL:https://www.casexx.com/Others/Branson.asp
CONTACT:1-417-335-5793
ORGANIZER;CN="Jan Carter":https://iknifecollector.com/profile/JanCarte
 r
ATTACH;FMTTYPE="image/jpeg":http://storage.ning.com/topology/rest/1.0/
 file/get/2648155088?profile=original
END:VEVENT
END:VCALENDAR
